Workbook
Name _Toc502060655: 屏東市B!$B$296

Sheet 屏東市B
A1: 序號 | B1: 合作單位名稱 | C1: 合作項目 | T1: 屏東區 | X1: 高樹區 | AB1: 萬巒區 | AF1: 電話 | AG1: 地址 | AH1: 資訊 | AI1: DM | AJ1: 備註 | AK1: 日期
C2: 居家服務 | D2: 到宅沐浴 | E2: 日間照顧 | F2: 家庭托顧 | G2: 專業服務 | H2: 居家喘息 | I2: 日照喘息 | J2: 機構喘息 | K2: 小規機喘息 | L2: 巷弄喘息 | M2: 餐飲服務 | N2: 失智共照 | O2: 失智據點 | P2: 家照者支持 | Q2: 團體家屋 | R2: 交通接送 | S2: BD03 | T2: 屏東市 | U2: 萬丹鄉 | V2: 長治鄉 | W2: 麟洛鄉 | X2: 九如鄉 | Y2: 里港鄉 | Z2: 鹽埔鄉 | AA2: 高樹鄉 | AB2: 萬巒鄉 | AC2: 竹田鄉 | AD2: 潮州鎮 | AE2: 內埔鄉
A3: =ROW()-2 -> 1 | B3: 九如失智社區服務據點 | O3: ✓ | X3: ✓ | AF3: 08-7391969 | AG3: 904屏東縣九如鄉東寧村東寧路91之1號1樓 | AH3: 網站
A4: =ROW()-2 -> 2 | B4: 凡恩國際有限公司附設屏東縣私立凡恩居家長照機構 | C4: ✓ | H4: ✓ | T4: ✓ | U4: ✓ | V4: ✓ | W4: ✓ | AF4: 08-7513800 | AG4: 900屏東市建興南路91-3號1樓 | AH4: 網站
A5: =ROW()-2 -> 3 | B5: 大地居家護理所 | G5: ✓ | M5: ✓ | T5: ✓ | U5: ✓ | V5: ✓ | W5: ✓ | X5: ✓ | Y5: ✓ | Z5: ✓ | AA5: ✓ | AB5: ✓ | AC5: ✓ | AD5: ✓ | AE5: ✓ | AF5: 08-7960036 | AG5: 906屏東縣高樹鄉長榮村興中路1巷70號1樓 | AH5: 網站 | AJ5: CA07、CB04
A6: =ROW()-2 -> 4 | B6: 大地春企業有限公司附設屏東縣私立田子社區長照機構 | E6: ✓ | I6: ✓ | T6: ✓ | U6: ✓ | V6: ✓ | W6: ✓ | X6: ✓ | Y6: ✓ | Z6: ✓ | AA6: ✓ | AB6: ✓ | AC6: ✓ | AD6: ✓ | AE6: ✓ | AF6: 08-7967703 | AG6: 906屏東縣高樹鄉田子村1鄰勝利路150號 | AH6: 網站
A7: =ROW()-2 -> 5 | B7: 大愛護理之家 | G7: ✓ | R7: ✓ | T7: ✓ | U7: ✓ | V7: ✓ | W7: ✓ | X7: ✓ | Y7: ✓ | Z7: ✓ | AA7: ✓ | AB7: ✓ | AC7: ✓ | AD7: ✓ | AE7: ✓ | AF7: 08-7763919#23 08-8687156#21 | AG7: 913屏東縣萬丹鄉香社村中興路一段70號 | AH7: 網站
A8: =ROW()-2 -> 6 | B8: 大愛護理之家 | M8: ✓ | T8: ✓ | U8: ✓ | V8: ✓ | W8: ✓ | AB8: ✓ | AC8: ✓ | AD8: ✓ | AE8: ✓ | AF8: 08-7763919#26 | AG8: 913屏東縣萬丹鄉香社村中興路一段70號 | AH8: 網站
A9: =ROW()-2 -> 7 | B9: 大愛護理之家 | E9: ✓ | I9: ✓ | J9: ✓ | T9: ✓ | U9: ✓ | V9: ✓ | W9: ✓ | X9: ✓ | Y9: ✓ | Z9: ✓ | AA9: ✓ | AB9: ✓ | AC9: ✓ | AD9: ✓ | AE9: ✓ | AF9: 08-8687869 | AG9: 932屏東縣新園鄉瓦磘村四環路16之6號1樓 | AH9: 網站
A10: =ROW()-2 -> 8 | B10: 大愛護理之家 | S10: ✓ | T10: ✓ | U10: ✓ | V10: ✓ | W10: ✓ | AE10: ✓ | AF10: 08-8685922 | AG10: 913屏東縣萬丹鄉香社村中興路一段70號 （行政辦公室地址：932屏東縣新園鄉瓦磘村環中路38號5樓） | AH10: 網站
A11: =ROW()-2 -> 9 | B11: 大愛護理之家附設居家護理所 | G11: ✓ | T11: ✓ | U11: ✓ | V11: ✓ | W11: ✓ | AB11: ✓ | AC11: ✓ | AD11: ✓ | AE11: ✓ | AF11: 08-7763919#36 | AG11: 913屏東縣萬丹鄉香社村中興路一段68號 | AH11: 網站
A12: =ROW()-2 -> 10 | B12: 大新醫院 | N12: ✓ | T12: ✓ | U12: ✓ | V12: ✓ | W12: ✓ | X12: ✓ | Y12: ✓ | Z12: ✓ | AA12: ✓ | AB12: ✓ | AC12: ✓ | AD12: ✓ | AE12: ✓ | AF12: 796-2033 #121 | AG12: 906屏東縣高樹鄉長榮村興中路208號 | AH12: 網站
A13: =ROW()-2 -> 11 | B13: 六月居家護理所 | G13: ✓ | T13: ✓ | U13: ✓ | V13: ✓ | W13: ✓ | AB13: ✓ | AC13: ✓ | AD13: ✓ | AE13: ✓ | AF13: 0985-616910 | AG13: 920屏東縣潮州鎮公園路245號 | AH13: x | AI13: x
A14: =ROW()-2 -> 12 | B14: 天心物理治療所 | G14: ✓ | T14: ✓ | U14: ✓ | V14: ✓ | W14: ✓ | X14: ✓ | Y14: ✓ | Z14: ✓ | AA14: ✓ | AB14: ✓ | AC14: ✓ | AD14: ✓ | AE14: ✓ | AF14: 07-3809003 0930-594-195 | AG14: 807高雄市三民區九如一路54巷3號1樓 | AH14: 網站
A15: =ROW()-2 -> 13 | B15: 天生長照社團法人附設屏東縣私立天生住宿長照機構 | J15: ✓ | T15: ✓ | U15: ✓ | V15: ✓ | W15: ✓ | X15: ✓ | Y15: ✓ | Z15: ✓ | AA15: ✓ | AB15: ✓ | AC15: ✓ | AD15: ✓ | AE15: ✓ | AF15: 08-8631317 | AG15: 924屏東縣崁頂鄉北勢村中正路838號 | AH15: 網站 | AJ15: 週一至週五 08:30-17:00
A16: =ROW()-2 -> 14 | B16: 心禾居家護理所 | G16: ✓ | T16: ✓ | U16: ✓ | V16: ✓ | W16: ✓ | X16: ✓ | Y16: ✓ | Z16: ✓ | AA16: ✓ | AB16: ✓ | AC16: ✓ | AD16: ✓ | AE16: ✓ | AF16: 08-7520060 | AG16: 900屏東市永安里永信三巷17號 | AH16: 網站
A17: =ROW()-2 -> 15 | B17: 日日賀有限公司附設屏東縣私立日日賀居家長照機構 | C17: ✓ | H17: ✓ | AB17: ✓ | AC17: ✓ | AD17: ✓ | AE17: ✓ | AF17: 08-7830582 | AG17: 923屏東縣萬巒鄉萬金村中正路67-5號1樓 | AH17: 網站
A18: =ROW()-2 -> 16 | B18: 日旺事業有限公司附設屏東縣立恆春頭溝綜合長照機構 | E18: ✓ | I18: ✓ | T18: ✓ | U18: ✓ | V18: ✓ | W18: ✓ | X18: ✓ | Y18: ✓ | Z18: ✓ | AA18: ✓ | AB18: ✓ | AC18: ✓ | AD18: ✓ | AE18: ✓ | AF18: 08-8880006 | AG18: 946屏東縣恆春鎮頭溝里4鄰頭溝路151號1樓 | AH18: 網站
A19: =ROW()-2 -> 17 | B19: 日旺事業有限公司附設屏東縣私立日欣居家長照機構 | C19: ✓ | H19: ✓ | M19: ✓ | T19: ✓ | U19: ✓ | V19: ✓ | W19: ✓ | AB19: ✓ | AC19: ✓ | AD19: ✓ | AE19: ✓ | AF19: 08-7897871 | AG19: 920屏東縣潮州鎮朝昇3巷29號1樓 | AH19: 地圖
A20: =ROW()-2 -> 18 | B20: 日旺事業有限公司附設屏東縣私立日欣居家長照機構 | D20: ✓ | T20: ✓ | U20: ✓ | V20: ✓ | W20: ✓ | AB20: ✓ | AC20: ✓ | AD20: ✓ | AE20: ✓ | AF20: 08-7897871 | AG20: 920屏東縣潮州鎮朝昇3巷29號1樓 | AH20: 地圖 | AJ20: 週一至週五07:30-17:30 (17:00-17:30分為延托)
A21: =ROW()-2 -> 19 | B21: 日旺事業有限公司附設屏東縣私立恆春城北社區長照機構 | E21: ✓ | I21: ✓ | T21: ✓ | U21: ✓ | V21: ✓ | W21: ✓ | X21: ✓ | Y21: ✓ | Z21: ✓ | AA21: ✓ | AB21: ✓ | AC21: ✓ | AD21: ✓ | AE21: ✓ | AF21: 08-8882797 | AG21: 946屏東縣恆春鎮新興路90巷32號2樓 | AH21: 網站
A22: =ROW()-2 -> 20 | B22: 台灣好客來交通有限公司 | R22: ✓ | S22: ✓ | T22: ✓ | V22: ✓ | W22: ✓ | X22: ✓ | Y22: ✓ | Z22: ✓ | AA22: ✓ | AE22: ✓ | AF22: 08-7966699 | AG22: 807高雄市三民區天津街288號 900屏東市海豐街5-14號 | AH22: 網站
A23: =ROW()-2 -> 21 | B23: 民眾醫院(失智共照中心/責型失智據點) | N23: ✓ | T23: ✓ | U23: ✓ | V23: ✓ | W23: ✓ | X23: ✓ | Y23: ✓ | Z23: ✓ | AA23: ✓ | AB23: ✓ | AC23: ✓ | AD23: ✓ | AE23: ✓ | AF23: 08-732-6100 | AG23: 900屏東市忠孝路120-1號 | AH23: 網站
A24: =ROW()-2 -> 22 | B24: 民暉居家護理所 | G24: ✓ | T24: ✓ | U24: ✓ | V24: ✓ | W24: ✓ | AB24: ✓ | AC24: ✓ | AD24: ✓ | AE24: ✓ | AF24: 08-7760666 | AG24: 913屏東縣萬丹鄉中興路二段476號 | AH24: 網站
A25: =ROW()-2 -> 23 | B25: 永馨居家護理所 | G25: ✓ | T25: ✓ | U25: ✓ | V25: ✓ | W25: ✓ | AB25: ✓ | AC25: ✓ | AD25: ✓ | AE25: ✓ | AF25: 08-7781890 | AG25: 912屏東縣內埔鄉興南村昌宏路102號 | AH25: 地圖
A26: =ROW()-2 -> 24 | B26: 永馨居家護理所 | G26: ✓ | T26: ✓ | U26: ✓ | V26: ✓ | W26: ✓ | AB26: ✓ | AC26: ✓ | AD26: ✓ | AE26: ✓ | AF26: 08-7781890 | AG26: 912屏東縣內埔鄉興南村昌宏路102號 | AH26: 網站
A27: =ROW()-2 -> 25 | B27: 仲暘居家物理治療所 | G27: ✓ | T27: ✓ | U27: ✓ | V27: ✓ | W27: ✓ | X27: ✓ | Y27: ✓ | Z27: ✓ | AA27: ✓ | AB27: ✓ | AC27: ✓ | AD27: ✓ | AE27: ✓ | AF27: 0919-456169 | AG27: 912屏東縣內埔鄉內埔村勝光路59號1樓 | AH27: 網站
A28: =ROW()-2 -> 26 | B28: 吉峯國際租賃有限公司 | R28: ✓ | U28: ✓ | AB28: ✓ | AC28: ✓ | AD28: ✓ | AF28: 08-7800699 LINE:0903-678650 | AG28: 920屏東縣潮州鎮永德路51號 | AH28: x | AI28: x
A29: =ROW()-2 -> 27 | B29: 向日葵護理之家 | E29: ✓ | I29: ✓ | J29: ✓ | T29: ✓ | U29: ✓ | V29: ✓ | W29: ✓ | X29: ✓ | Y29: ✓ | Z29: ✓ | AA29: ✓ | AB29: ✓ | AC29: ✓ | AD29: ✓ | AE29: ✓ | AF29: 08-7755585 | AG29: 905屏東縣里港鄉玉田村八德路338號1樓 | AH29: 網站
A30: =ROW()-2 -> 28 | B30: 好事多國際有限公司附設屏東縣私立智在社區長照機構 | Q30: ✓ | T30: ✓ | U30: ✓ | V30: ✓ | W30: ✓ | X30: ✓ | Y30: ✓ | Z30: ✓ | AA30: ✓ | AB30: ✓ | AC30: ✓ | AD30: ✓ | AE30: ✓ | AF30: 08-7896053 | AG30: 920屏東縣潮州鎮五魁里五魁路 13-6 號 | AH30: 網址 | AI30: 潮州愛智日照
A31: =ROW()-2 -> 29 | B31: 好事多國際有限公司附設屏東縣私立愛仁社區長照機構 | E31: ✓ | I31: ✓ | T31: ✓ | U31: ✓ | V31: ✓ | W31: ✓ | X31: ✓ | Y31: ✓ | Z31: ✓ | AA31: ✓ | AB31: ✓ | AC31: ✓ | AD31: ✓ | AE31: ✓ | AF31: 08-7628030 | AG31: 907屏東縣鹽埔鄉維新路20號(M棟/司令台1樓) | AH31: 網站 | AI31: 鹽埔愛仁日照
A32: =ROW()-2 -> 30 | B32: 好事多國際有限公司附設屏東縣私立愛佳社區長照機構 | E32: ✓ | I32: ✓ | T32: ✓ | U32: ✓ | V32: ✓ | W32: ✓ | X32: ✓ | Y32: ✓ | Z32: ✓ | AA32: ✓ | AB32: ✓ | AC32: ✓ | AD32: ✓ | AE32: ✓ | AF32: 08-8669322 0932062770 | AG32: 931屏東縣佳冬鄉玉光村忠信街15號 | AH32: 網址
A33: =ROW()-2 -> 31 | B33: 好事多國際有限公司附設屏東縣私立愛智社區長照機構 | E33: ✓ | I33: ✓ | T33: ✓ | U33: ✓ | V33: ✓ | W33: ✓ | X33: ✓ | Y33: ✓ | Z33: ✓ | AA33: ✓ | AB33: ✓ | AC33: ✓ | AD33: ✓ | AE33: ✓ | AF33: 08-7896053 | AG33: 920屏東縣潮州鎮五魁里五魁路13-6號 | AH33: 網站
A34: =ROW()-2 -> 32 | B34: 安心好生活股份有限公司附設屏東縣私立佳醫居家長照機構 | C34: ✓ | H34: ✓ | T34: ✓ | U34: ✓ | V34: ✓ | W34: ✓ | AF34: 08-7216616 | AG34: 900屏東市自立路254號1樓 | AH34: 地址 | AI34: 佳醫
A35: =ROW()-2 -> 33 | B35: 安和長照社團法人附設屏東縣私立安和住宿長照機構 | J35: ✓ | T35: ✓ | U35: ✓ | V35: ✓ | W35: ✓ | X35: ✓ | Y35: ✓ | Z35: ✓ | AA35: ✓ | AB35: ✓ | AC35: ✓ | AD35: ✓ | AE35: ✓ | AF35: 08-7891666 | AG35: 920屏東縣潮州鎮三星里三星路198號 | AH35: 網站
A36: =ROW()-2 -> 34 | B36: 安泰醫療社團法人安泰醫院 | N36: ✓ | T36: ✓ | U36: ✓ | V36: ✓ | W36: ✓ | X36: ✓ | Y36: ✓ | Z36: ✓ | AA36: ✓ | AB36: ✓ | AC36: ✓ | AD36: ✓ | AE36: ✓ | AF36: 831-1265 | AG36: 928屏東縣東港鎮中正路一段210號(D棟) | AH36: 網站
A37: =ROW()-2 -> 35 | B37: 安泰醫療社團法人安泰醫院附設居家護理所 | G37: ✓ | AB37: ✓ | AC37: ✓ | AD37: ✓ | AE37: ✓ | AF37: 08-8330037 | AG37: 928屏東縣東港鎮中正路一段162之13號 | AH37: 網站
A38: =ROW()-2 -> 36 | B38: 安泰醫療社團法人附設安泰護理之家 | J38: ✓ | T38: ✓ | U38: ✓ | V38: ✓ | W38: ✓ | X38: ✓ | Y38: ✓ | Z38: ✓ | AA38: ✓ | AB38: ✓ | AC38: ✓ | AD38: ✓ | AE38: ✓ | AF38: 08-8635661 | AG38: 924屏東縣崁頂鄉北勢村中正路840號 | AH38: 網站
A39: =ROW()-2 -> 37 | B39: 托媞園長照社團法人附設屏東縣私立愛麗絲青島社區長照機構 | E39: ✓ | I39: ✓ | Q39: ✓ | T39: ✓ | U39: ✓ | V39: ✓ | W39: ✓ | X39: ✓ | Y39: ✓ | Z39: ✓ | AA39: ✓ | AB39: ✓ | AC39: ✓ | AD39: ✓ | AE39: ✓ | AF39: 08-7322818 | AG39: 900屏東市永城里青島街153-8號2-4樓 | AH39: 網站 | AI39: 愛麗絲
A40: =ROW()-2 -> 38 | B40: 有限責任屏東縣大屏南照顧服務勞動合作社附設私立大屏南居家長照機構 | C40: ✓ | H40: ✓ | T40: ✓ | U40: ✓ | V40: ✓ | W40: ✓ | AB40: ✓ | AC40: ✓ | AD40: ✓ | AE40: ✓ | AF40: 08-8686997 | AG40: 932屏東縣新園鄉烏龍村南興路368巷6號1樓 | AH40: 網站 | AI40: 大屏南
...

Sheet 全+發文用
B1: 機構名稱 | C1: 信箱 | D1: 地址
B2: 屏基醫療財團法人附設屏東縣私立屏基居家式服務類長期照顧服務機構 | C2: 02858@ptch.org.tw | D2: {=INDEX(屏東市B!$AG:$AG,MATCH(B2,屏東市B!$B:$B,0),1)} -> 900屏東市瑞光路三段96號
B3: 屏基醫療財團法人附設屏基護理之家 | C3: 06760@ptch.org.tw | D3: {=INDEX(屏東市B!$AG:$AG,MATCH(B3,屏東市B!$B:$B,0),1)} -> 900屏東市華山里瑞光路三段96號1樓
B4: 捷乘交通有限公司 | C4: 11guailin01@gmail.com | D4: {=INDEX(屏東市B!$AG:$AG,MATCH(B4,屏東市B!$B:$B,0),1)} -> 900屏東市復光街10-88號
B5: 琉球鄉衛生所附設護理之家 | C5: 1200296@fy.org.tw | D5: {=INDEX(屏東市B!$AG:$AG,MATCH(B5,屏東市B!$B:$B,0),1)} -> 929屏東縣琉球鄉漁福村本漁路23號
B6: 日日賀有限公司附設屏東縣私立日日賀居家長照機構 | C6: 2021everydaynice@gmail.com | D6: {=INDEX(屏東市B!$AG:$AG,MATCH(B6,屏東市B!$B:$B,0),1)} -> 923屏東縣萬巒鄉萬金村中正路67-5號1樓
B7: 寶建醫療社團法人附設春風護理之家 | C7: 4032@mail.paochien.com.tw | D7: {=INDEX(屏東市B!$AG:$AG,MATCH(B7,屏東市B!$B:$B,0),1)} -> 900屏東市自由路650-1號3-5樓
B8: 健安護理之家 | C8: 7526600@gmail.com | D8: {=INDEX(屏東市B!$AG:$AG,MATCH(B8,屏東市B!$B:$B,0),1)} -> 900屏東市復興南路一段108巷26號
B9: 財團法人台灣省私立孝愛仁愛之家附設屏東縣居家長照機構 | C9: 7882351@gmail.com | D9: {=INDEX(屏東市B!$AG:$AG,MATCH(B9,屏東市B!$B:$B,0),1)} -> 920屏東縣潮州鎮四維路189巷13號
B10: 天生長照社團法人附設屏東縣私立天生住宿長照機構 | C10: 8631317@gmail.com | D10: {=INDEX(屏東市B!$AG:$AG,MATCH(B10,屏東市B!$B:$B,0),1)} -> 924屏東縣崁頂鄉北勢村中正路838號
B11: 崑泰長照社團法人附設屏東縣私立崑泰住宿長照機構 | C11: 8635667@gmail.com | D11: {=INDEX(屏東市B!$AG:$AG,MATCH(B11,屏東市B!$B:$B,0),1)} -> 924屏東縣崁頂鄉北勢村中正路836號
B12: 天心物理治療所 | C12: 9155u7@gmail.com | D12: {=INDEX(屏東市B!$AG:$AG,MATCH(B12,屏東市B!$B:$B,0),1)} -> 807高雄市三民區九如一路54巷3號1樓
B13: 屏東縣私立頭前溪老人養護中心 | C13: a087519182@yahoo.com.tw | D13: {=INDEX(屏東市B!$AG:$AG,MATCH(B13,屏東市B!$B:$B,0),1)} -> 900屏東市前進里前進路280號
A14: 原鄉 | B14: 財團法人一粒麥子社會福利慈善事業基金會附設屏東縣私立獅子社區長照機構 | C14: a09029@wheat.org.tw | D14: {=INDEX(屏東市B!$AG:$AG,MATCH(B14,屏東市B!$B:$B,0),1)} -> 943屏東縣獅子鄉楓林村楓林二巷31號1樓
B15: 屏東縣私立大盛魁居家長照機構 | C15: a0903989957@gmail.com | D15: {=INDEX(屏東市B!$AG:$AG,MATCH(B15,屏東市B!$B:$B,0),1)} -> 900屏東市歸禮巷107號
B16: 屏東縣私立心青華居家長照機構 | C16: a0908952553@gmail.com | D16: {=INDEX(屏東市B!$AG:$AG,MATCH(B16,屏東市B!$B:$B,0),1)} -> 900屏東市大武路249號
B17: 屏東縣私立龍潭社區長照機構 | C17: a0912992512@gmail.com | D17: {=INDEX(屏東市B!$AG:$AG,MATCH(B17,屏東市B!$B:$B,0),1)} -> 912屏東縣內埔鄉龍潭村龍德路66號1樓
B18: 屏東縣私立沐恩社區長照機構 | C18: a0916082121@gmail.com | D18: {=INDEX(屏東市B!$AG:$AG,MATCH(B18,屏東市B!$B:$B,0),1)} -> 903屏東縣瑪家鄉三和村三和63號
B19: 社團法人屏東縣腦性麻痺服務協會附設私立安心居家長照機構 | C19: a0917931188@gmail.com Myhome2019tw@gmail.com | D19: {=INDEX(屏東市B!$AG:$AG,MATCH(B19,屏東市B!$B:$B,0),1)} -> 900屏東市福建路76巷5號1樓
B20: 屏東縣全齡社會福利慈善協會附設私立全齡綜合長照機構 | C20: a0919632718@gmail.com | D20: {=INDEX(屏東市B!$AG:$AG,MATCH(B20,屏東市B!$B:$B,0),1)} -> 908屏東縣長治鄉進興村013鄰下寮巷36號
B21: 心安居家護理所 | C21: a0938937483@gmail.com | D21: {=INDEX(屏東市B!$AG:$AG,MATCH(B21,屏東市B!$B:$B,0),1)} -> 842高雄市旗山區復興東街57號1樓
B22: 財團法人蘇天生文教基金會附設屏東縣私立蘇天生居家長照機構 | C22: a095231@mail.tsmh.org.tw | D22: {=INDEX(屏東市B!$AG:$AG,MATCH(B22,屏東市B!$B:$B,0),1)} -> 924屏東縣崁頂鄉崁頂村中正路264-1號
B23: 屏東縣私立慧心居家長照機構 | C23: a0958663229@gmail.com | D23: {=INDEX(屏東市B!$AG:$AG,MATCH(B23,屏東市B!$B:$B,0),1)} -> 905屏東縣里港鄉過江村仁愛路81巷62弄12號
B24: 屏東縣私立瑞光社區長照機構 | C24: a0981991450@gmail.com | D24: {=INDEX(屏東市B!$AG:$AG,MATCH(B24,屏東市B!$B:$B,0),1)} -> 900屏東市瑞光里田中一橫巷179號1樓
B25: 行動居家物理治療所 | C25: a123147658@gmail.com | D25: {=INDEX(屏東市B!$AG:$AG,MATCH(B25,屏東市B!$B:$B,0),1)} -> 928屏東縣東港鎮新義路70號
B26: 財團法人屏東縣私立椰子園老人養護之家 | C26: a246877tw@gmail.com | D26: {=INDEX(屏東市B!$AG:$AG,MATCH(B26,屏東市B!$B:$B,0),1)} -> 908屏東縣長治鄉繁昌村振興路16-9號
... B33: 屏東縣私立長春園老人長期照顧中心（養護型） | C33: aa7962999@yahoo.com.tw | D33: {=INDEX(屏東市B!$AG:$AG,MATCH(B33,屏東市B!$B:$B,0),1)} -> 906屏東縣高樹鄉舊庄村慈新路二段50號
B34: 麗緻長照社團法人附設屏東縣私立麗緻住宿長照機構 | C34: aaa087626512@gmail.com | D34: 908屏東縣長治鄉德榮村下厝街5號
B35: 有限責任屏東縣傳愛照顧勞動合作社附設私立傳愛居家長照機構 | C35: abc7212758@gmail.com | D35: {=INDEX(屏東市B!$AG:$AG,MATCH(B35,屏東市B!$B:$B,0),1)} -> 900屏東市華山里14鄰瑞光路三段32號1樓
B36: 屏東縣私立青葉社區式長期照顧服務機構 | C36: abc7966242@gmail.com | D36: {=INDEX(屏東市B!$AG:$AG,MATCH(B36,屏東市B!$B:$B,0),1)} -> 901屏東縣三地門鄉青葉村4鄰光復路40-1號
B37: 安泰醫療社團法人附設安泰護理之家 | C37: adyq0216@gmail.com | D37: {=INDEX(屏東市B!$AG:$AG,MATCH(B37,屏東市B!$B:$B,0),1)} -> 924屏東縣崁頂鄉北勢村中正路840號
B38: 財團法人屏東縣私立國淳社會福利慈善事業基金會附設快樂魚社區長照機構 | C38: aeric701001@gmail.com | D38: {=INDEX(屏東市B!$AG:$AG,MATCH(B38,屏東市B!$B:$B,0),1)} -> 911屏東縣竹田鄉西勢村龍南路26-1號
B39: 社團法人屏東縣腦性麻痺服務協會附設私立萬和社區長照機構 | C39: arbintw@gmail.com | D39: {=INDEX(屏東市B!$AG:$AG,MATCH(B39,屏東市B!$B:$B,0),1)} -> 923屏東縣萬巒鄉萬全村褒忠路16之1號3樓
B40: 屏東縣私立芭琉猶斯社區長照機構 | C40: asd85263@gmail.com | D40: {=INDEX(屏東市B!$AG:$AG,MATCH(B40,屏東市B!$B:$B,0),1)} -> 903屏東縣瑪家鄉排灣村1鄰排灣5號
B41: 有限責任屏東縣恆大照顧服務勞動合作社附設私立恆大居家長照機構 | C41: b087629060@gmail.com | D41: {=INDEX(屏東市B!$AG:$AG,MATCH(B41,屏東市B!$B:$B,0),1)} -> 908屏東縣長治鄉德協村中興路641號 927屏東縣林邊鄉永樂村新興路54巷32號
B42: 屏東縣私立慈暉老人長期照顧中心(養護型) | C42: bear2926@hotmail.com | D42: {=INDEX(屏東市B!$AG:$AG,MATCH(B42,屏東市B!$B:$B,0),1)} -> 900屏東市大洲里富貴街61號
B43: 屏東縣私立都瑪拉拉多社區長照機構 | C43: bijhu0857@gmail.com | D43: {=INDEX(屏東市B!$AG:$AG,MATCH(B43,屏東市B!$B:$B,0),1)} -> 901屏東縣三地門鄉青山村民族巷46號
B44: 屏東縣私立慈航老人長期照顧中心(養護型) | C44: boss5745@yahoo.com.tw | D44: {=INDEX(屏東市B!$AG:$AG,MATCH(B44,屏東市B!$B:$B,0),1)} -> 912屏東縣內埔鄉建興村建興路218巷3號
B45: 屏東縣私立慈仁老人長期照顧機構(養護型) | C45: boss5745@yahoo.com.tw | D45: {=INDEX(屏東市B!$AG:$AG,MATCH(B45,屏東市B!$B:$B,0),1)} -> 912屏東縣內埔鄉建興村建興路218巷5號
B46: 財團法人高雄市郭吳麗珠社會福利慈善事業基金會附設屏東縣私立北興社區長照機構 | C46: bx.daycare@msa.hinet.net | D46: {=INDEX(屏東市B!$AG:$AG,MATCH(B46,屏東市B!$B:$B,0),1)} -> 900屏東市中正路419號4樓
...
