Workbook
Name _Toc502060655: 屏東市B!$B$296

Sheet 屏東市B
A1: 序號 | B1: 合作單位名稱 | C1: 合作項目 | T1: 屏東區 | X1: 高樹區 | AB1: 萬巒區 | AF1: 電話 | AG1: 地址 | AH1: 資訊 | AI1: DM | AJ1: 備註 | AK1: 日期
C2: 居家服務 | D2: 到宅沐浴 | E2: 日間照顧 | F2: 家庭托顧 | G2: 專業服務 | H2: 居家喘息 | I2: 日照喘息 | J2: 機構喘息 | K2: 小規機喘息 | L2: 巷弄喘息 | M2: 餐飲服務 | N2: 失智共照 | O2: 失智據點 | P2: 家照者支持 | Q2: 團體家屋 | R2: 交通接送 | S2: BD03 | T2: 屏東市 | U2: 萬丹鄉 | V2: 長治鄉 | W2: 麟洛鄉 | X2: 九如鄉 | Y2: 里港鄉 | Z2: 鹽埔鄉 | AA2: 高樹鄉 | AB2: 萬巒鄉 | AC2: 竹田鄉 | AD2: 潮州鎮 | AE2: 內埔鄉
A3: =ROW()-2 -> 1 | B3: 九如失智社區服務據點 | O3: ✓ | X3: ✓ | AF3: 08-7391969 | AG3: 904屏東縣九如鄉東寧村東寧路91之1號1樓 | AH3: 網站
A4: =ROW()-2 -> 2 | B4: 凡恩國際有限公司附設屏東縣私立凡恩居家長照機構 | C4: ✓ | H4: ✓ | T4: ✓ | U4: ✓ | V4: ✓ | W4: ✓ | AF4: 08-7513800 | AG4: 900屏東市建興南路91-3號1樓 | AH4: 網站
A5: =ROW()-2 -> 3 | B5: 大地居家護理所 | G5: ✓ | M5: ✓ | T5: ✓ | U5: ✓ | V5: ✓ | W5: ✓ | X5: ✓ | Y5: ✓ | Z5: ✓ | AA5: ✓ | AB5: ✓ | AC5: ✓ | AD5: ✓ | AE5: ✓ | AF5: 08-7960036 | AG5: 906屏東縣高樹鄉長榮村興中路1巷70號1樓 | AH5: 網站 | AJ5: CA07、CB04
A6: =ROW()-2 -> 4 | B6: 大地春企業有限公司附設屏東縣私立田子社區長照機構 | E6: ✓ | I6: ✓ | T6: ✓ | U6: ✓ | V6: ✓ | W6: ✓ | X6: ✓ | Y6: ✓ | Z6: ✓ | AA6: ✓ | AB6: ✓ | AC6: ✓ | AD6: ✓ | AE6: ✓ | AF6: 08-7967703 | AG6: 906屏東縣高樹鄉田子村1鄰勝利路150號 | AH6: 網站
A7: =ROW()-2 -> 5 | B7: 大愛護理之家 | G7: ✓ | R7: ✓ | T7: ✓ | U7: ✓ | V7: ✓ | W7: ✓ | X7: ✓ | Y7: ✓ | Z7: ✓ | AA7: ✓ | AB7: ✓ | AC7: ✓ | AD7: ✓ | AE7: ✓ | AF7: 08-7763919#23 08-8687156#21 | AG7: 913屏東縣萬丹鄉香社村中興路一段70號 | AH7: 網站
A8: =ROW()-2 -> 6 | B8: 大愛護理之家 | M8: ✓ | T8: ✓ | U8: ✓ | V8: ✓ | W8: ✓ | AB8: ✓ | AC8: ✓ | AD8: ✓ | AE8: ✓ | AF8: 08-7763919#26 | AG8: 913屏東縣萬丹鄉香社村中興路一段70號 | AH8: 網站
A9: =ROW()-2 -> 7 | B9: 大愛護理之家 | E9: ✓ | I9: ✓ | J9: ✓ | T9: ✓ | U9: ✓ | V9: ✓ | W9: ✓ | X9: ✓ | Y9: ✓ | Z9: ✓ | AA9: ✓ | AB9: ✓ | AC9: ✓ | AD9: ✓ | AE9: ✓ | AF9: 08-8687869 | AG9: 932屏東縣新園鄉瓦磘村四環路16之6號1樓 | AH9: 網站
A10: =ROW()-2 -> 8 | B10: 大愛護理之家 | S10: ✓ | T10: ✓ | U10: ✓ | V10: ✓ | W10: ✓ | AE10: ✓ | AF10: 08-8685922 | AG10: 913屏東縣萬丹鄉香社村中興路一段70號 （行政辦公室地址：932屏東縣新園鄉瓦磘村環中路38號5樓） | AH10: 網站
A11: =ROW()-2 -> 9 | B11: 大愛護理之家附設居家護理所 | G11: ✓ | T11: ✓ | U11: ✓ | V11: ✓ | W11: ✓ | AB11: ✓ | AC11: ✓ | AD11: ✓ | AE11: ✓ | AF11: 08-7763919#36 | AG11: 913屏東縣萬丹鄉香社村中興路一段68號 | AH11: 網站
A12: =ROW()-2 -> 10 | B12: 大新醫院 | N12: ✓ | T12: ✓ | U12: ✓ | V12: ✓ | W12: ✓ | X12: ✓ | Y12: ✓ | Z12: ✓ | AA12: ✓ | AB12: ✓ | AC12: ✓ | AD12: ✓ | AE12: ✓ | AF12: 796-2033 #121 | AG12: 906屏東縣高樹鄉長榮村興中路208號 | AH12: 網站
A13: =ROW()-2 -> 11 | B13: 六月居家護理所 | G13: ✓ | T13: ✓ | U13: ✓ | V13: ✓ | W13: ✓ | AB13: ✓ | AC13: ✓ | AD13: ✓ | AE13: ✓ | AF13: 0985-616910 | AG13: 920屏東縣潮州鎮公園路245號 | AH13: x | AI13: x
A14: =ROW()-2 -> 12 | B14: 天心物理治療所 | G14: ✓ | T14: ✓ | U14: ✓ | V14: ✓ | W14: ✓ | X14: ✓ | Y14: ✓ | Z14: ✓ | AA14: ✓ | AB14: ✓ | AC14: ✓ | AD14: ✓ | AE14: ✓ | AF14: 07-3809003 0930-594-195 | AG14: 807高雄市三民區九如一路54巷3號1樓 | AH14: 網站
A15: =ROW()-2 -> 13 | B15: 天生長照社團法人附設屏東縣私立天生住宿長照機構 | J15: ✓ | T15: ✓ | U15: ✓ | V15: ✓ | W15: ✓ | X15: ✓ | Y15: ✓ | Z15: ✓ | AA15: ✓ | AB15: ✓ | AC15: ✓ | AD15: ✓ | AE15: ✓ | AF15: 08-8631317 | AG15: 924屏東縣崁頂鄉北勢村中正路838號 | AH15: 網站 | AJ15: 週一至週五 08:30-17:00
A16: =ROW()-2 -> 14 | B16: 心禾居家護理所 | G16: ✓ | T16: ✓ | U16: ✓ | V16: ✓ | W16: ✓ | X16: ✓ | Y16: ✓ | Z16: ✓ | AA16: ✓ | AB16: ✓ | AC16: ✓ | AD16: ✓ | AE16: ✓ | AF16: 08-7520060 | AG16: 900屏東市永安里永信三巷17號 | AH16: 網站
A17: =ROW()-2 -> 15 | B17: 日日賀有限公司附設屏東縣私立日日賀居家長照機構 | C17: ✓ | H17: ✓ | AB17: ✓ | AC17: ✓ | AD17: ✓ | AE17: ✓ | AF17: 08-7830582 | AG17: 923屏東縣萬巒鄉萬金村中正路67-5號1樓 | AH17: 網站
A18: =ROW()-2 -> 16 | B18: 日旺事業有限公司附設屏東縣立恆春頭溝綜合長照機構 | E18: ✓ | I18: ✓ | T18: ✓ | U18: ✓ | V18: ✓ | W18: ✓ | X18: ✓ | Y18: ✓ | Z18: ✓ | AA18: ✓ | AB18: ✓ | AC18: ✓ | AD18: ✓ | AE18: ✓ | AF18: 08-8880006 | AG18: 946屏東縣恆春鎮頭溝里4鄰頭溝路151號1樓 | AH18: 網站
A19: =ROW()-2 -> 17 | B19: 日旺事業有限公司附設屏東縣私立日欣居家長照機構 | C19: ✓ | H19: ✓ | M19: ✓ | T19: ✓ | U19: ✓ | V19: ✓ | W19: ✓ | AB19: ✓ | AC19: ✓ | AD19: ✓ | AE19: ✓ | AF19: 08-7897871 | AG19: 920屏東縣潮州鎮朝昇3巷29號1樓 | AH19: 地圖
A20: =ROW()-2 -> 18 | B20: 日旺事業有限公司附設屏東縣私立日欣居家長照機構 | D20: ✓ | T20: ✓ | U20: ✓ | V20: ✓ | W20: ✓ | AB20: ✓ | AC20: ✓ | AD20: ✓ | AE20: ✓ | AF20: 08-7897871 | AG20: 920屏東縣潮州鎮朝昇3巷29號1樓 | AH20: 地圖 | AJ20: 週一至週五07:30-17:30 (17:00-17:30分為延托)
A21: =ROW()-2 -> 19 | B21: 日旺事業有限公司附設屏東縣私立恆春城北社區長照機構 | E21: ✓ | I21: ✓ | T21: ✓ | U21: ✓ | V21: ✓ | W21: ✓ | X21: ✓ | Y21: ✓ | Z21: ✓ | AA21: ✓ | AB21: ✓ | AC21: ✓ | AD21: ✓ | AE21: ✓ | AF21: 08-8882797 | AG21: 946屏東縣恆春鎮新興路90巷32號2樓 | AH21: 網站
A22: =ROW()-2 -> 20 | B22: 台灣好客來交通有限公司 | R22: ✓ | S22: ✓ | T22: ✓ | V22: ✓ | W22: ✓ | X22: ✓ | Y22: ✓ | Z22: ✓ | AA22: ✓ | AE22: ✓ | AF22: 08-7966699 | AG22: 807高雄市三民區天津街288號 900屏東市海豐街5-14號 | AH22: 網站
A23: =ROW()-2 -> 21 | B23: 民眾醫院(失智共照中心/責型失智據點) | N23: ✓ | T23: ✓ | U23: ✓ | V23: ✓ | W23: ✓ | X23: ✓ | Y23: ✓ | Z23: ✓ | AA23: ✓ | AB23: ✓ | AC23: ✓ | AD23: ✓ | AE23: ✓ | AF23: 08-732-6100 | AG23: 900屏東市忠孝路120-1號 | AH23: 網站
A24: =ROW()-2 -> 22 | B24: 民暉居家護理所 | G24: ✓ | T24: ✓ | U24: ✓ | V24: ✓ | W24: ✓ | AB24: ✓ | AC24: ✓ | AD24: ✓ | AE24: ✓ | AF24: 08-7760666 | AG24: 913屏東縣萬丹鄉中興路二段476號 | AH24: 網站
A25: =ROW()-2 -> 23 | B25: 永馨居家護理所 | G25: ✓ | T25: ✓ | U25: ✓ | V25: ✓ | W25: ✓ | AB25: ✓ | AC25: ✓ | AD25: ✓ | AE25: ✓ | AF25: 08-7781890 | AG25: 912屏東縣內埔鄉興南村昌宏路102號 | AH25: 地圖
A26: =ROW()-2 -> 24 | B26: 永馨居家護理所 | G26: ✓ | T26: ✓ | U26: ✓ | V26: ✓ | W26: ✓ | AB26: ✓ | AC26: ✓ | AD26: ✓ | AE26: ✓ | AF26: 08-7781890 | AG26: 912屏東縣內埔鄉興南村昌宏路102號 | AH26: 網站
A27: =ROW()-2 -> 25 | B27: 仲暘居家物理治療所 | G27: ✓ | T27: ✓ | U27: ✓ | V27: ✓ | W27: ✓ | X27: ✓ | Y27: ✓ | Z27: ✓ | AA27: ✓ | AB27: ✓ | AC27: ✓ | AD27: ✓ | AE27: ✓ | AF27: 0919-456169 | AG27: 912屏東縣內埔鄉內埔村勝光路59號1樓 | AH27: 網站
A28: =ROW()-2 -> 26 | B28: 吉峯國際租賃有限公司 | R28: ✓ | U28: ✓ | AB28: ✓ | AC28: ✓ | AD28: ✓ | AF28: 08-7800699 LINE:0903-678650 | AG28: 920屏東縣潮州鎮永德路51號 | AH28: x | AI28: x
A29: =ROW()-2 -> 27 | B29: 向日葵護理之家 | E29: ✓ | I29: ✓ | J29: ✓ | T29: ✓ | U29: ✓ | V29: ✓ | W29: ✓ | X29: ✓ | Y29: ✓ | Z29: ✓ | AA29: ✓ | AB29: ✓ | AC29: ✓ | AD29: ✓ | AE29: ✓ | AF29: 08-7755585 | AG29: 905屏東縣里港鄉玉田村八德路338號1樓 | AH29: 網站
A30: =ROW()-2 -> 28 | B30: 好事多國際有限公司附設屏東縣私立智在社區長照機構 | Q30: ✓ | T30: ✓ | U30: ✓ | V30: ✓ | W30: ✓ | X30: ✓ | Y30: ✓ | Z30: ✓ | AA30: ✓ | AB30: ✓ | AC30: ✓ | AD30: ✓ | AE30: ✓ | AF30: 08-7896053 | AG30: 920屏東縣潮州鎮五魁里五魁路 13-6 號 | AH30: 網址 | AI30: 潮州愛智日照
A31: =ROW()-2 -> 29 | B31: 好事多國際有限公司附設屏東縣私立愛仁社區長照機構 | E31: ✓ | I31: ✓ | T31: ✓ | U31: ✓ | V31: ✓ | W31: ✓ | X31: ✓ | Y31: ✓ | Z31: ✓ | AA31: ✓ | AB31: ✓ | AC31: ✓ | AD31: ✓ | AE31: ✓ | AF31: 08-7628030 | AG31: 907屏東縣鹽埔鄉維新路20號(M棟/司令台1樓) | AH31: 網站 | AI31: 鹽埔愛仁日照
A32: =ROW()-2 -> 30 | B32: 好事多國際有限公司附設屏東縣私立愛佳社區長照機構 | E32: ✓ | I32: ✓ | T32: ✓ | U32: ✓ | V32: ✓ | W32: ✓ | X32: ✓ | Y32: ✓ | Z32: ✓ | AA32: ✓ | AB32: ✓ | AC32: ✓ | AD32: ✓ | AE32: ✓ | AF32: 08-8669322 0932062770 | AG32: 931屏東縣佳冬鄉玉光村忠信街15號 | AH32: 網址
A33: =ROW()-2 -> 31 | B33: 好事多國際有限公司附設屏東縣私立愛智社區長照機構 | E33: ✓ | I33: ✓ | T33: ✓ | U33: ✓ | V33: ✓ | W33: ✓ | X33: ✓ | Y33: ✓ | Z33: ✓ | AA33: ✓ | AB33: ✓ | AC33: ✓ | AD33: ✓ | AE33: ✓ | AF33: 08-7896053 | AG33: 920屏東縣潮州鎮五魁里五魁路13-6號 | AH33: 網站
A34: =ROW()-2 -> 32 | B34: 安心好生活股份有限公司附設屏東縣私立佳醫居家長照機構 | C34: ✓ | H34: ✓ | T34: ✓ | U34: ✓ | V34: ✓ | W34: ✓ | AF34: 08-7216616 | AG34: 900屏東市自立路254號1樓 | AH34: 地址 | AI34: 佳醫
A35: =ROW()-2 -> 33 | B35: 安和長照社團法人附設屏東縣私立安和住宿長照機構 | J35: ✓ | T35: ✓ | U35: ✓ | V35: ✓ | W35: ✓ | X35: ✓ | Y35: ✓ | Z35: ✓ | AA35: ✓ | AB35: ✓ | AC35: ✓ | AD35: ✓ | AE35: ✓ | AF35: 08-7891666 | AG35: 920屏東縣潮州鎮三星里三星路198號 | AH35: 網站
A36: =ROW()-2 -> 34 | B36: 安泰醫療社團法人安泰醫院 | N36: ✓ | T36: ✓ | U36: ✓ | V36: ✓ | W36: ✓ | X36: ✓ | Y36: ✓ | Z36: ✓ | AA36: ✓ | AB36: ✓ | AC36: ✓ | AD36: ✓ | AE36: ✓ | AF36: 831-1265 | AG36: 928屏東縣東港鎮中正路一段210號(D棟) | AH36: 網站
A37: =ROW()-2 -> 35 | B37: 安泰醫療社團法人安泰醫院附設居家護理所 | G37: ✓ | AB37: ✓ | AC37: ✓ | AD37: ✓ | AE37: ✓ | AF37: 08-8330037 | AG37: 928屏東縣東港鎮中正路一段162之13號 | AH37: 網站
A38: =ROW()-2 -> 36 | B38: 安泰醫療社團法人附設安泰護理之家 | J38: ✓ | T38: ✓ | U38: ✓ | V38: ✓ | W38: ✓ | X38: ✓ | Y38: ✓ | Z38: ✓ | AA38: ✓ | AB38: ✓ | AC38: ✓ | AD38: ✓ | AE38: ✓ | AF38: 08-8635661 | AG38: 924屏東縣崁頂鄉北勢村中正路840號 | AH38: 網站
A39: =ROW()-2 -> 37 | B39: 托媞園長照社團法人附設屏東縣私立愛麗絲青島社區長照機構 | E39: ✓ | I39: ✓ | Q39: ✓ | T39: ✓ | U39: ✓ | V39: ✓ | W39: ✓ | X39: ✓ | Y39: ✓ | Z39: ✓ | AA39: ✓ | AB39: ✓ | AC39: ✓ | AD39: ✓ | AE39: ✓ | AF39: 08-7322818 | AG39: 900屏東市永城里青島街153-8號2-4樓 | AH39: 網站 | AI39: 愛麗絲
A40: =ROW()-2 -> 38 | B40: 有限責任屏東縣大屏南照顧服務勞動合作社附設私立大屏南居家長照機構 | C40: ✓ | H40: ✓ | T40: ✓ | U40: ✓ | V40: ✓ | W40: ✓ | AB40: ✓ | AC40: ✓ | AD40: ✓ | AE40: ✓ | AF40: 08-8686997 | AG40: 932屏東縣新園鄉烏龍村南興路368巷6號1樓 | AH40: 網站 | AI40: 大屏南
A41: =ROW()-2 -> 39 | B41: 有限責任屏東縣心鄰照顧勞動合作社 | M41: ✓ | T41: ✓ | U41: ✓ | V41: ✓ | W41: ✓ | X41: ✓ | Y41: ✓ | Z41: ✓ | AA41: ✓ | AF41: 08-7622885 | AG41: 908屏東縣長治鄉繁華村水源路126-3號 | AH41: 網站
A42: =ROW()-2 -> 40 | B42: 有限責任屏東縣同心照顧勞動合作社附設屏東縣私立同心居家長照機構 | C42: ✓ | H42: ✓ | T42: ✓ | U42: ✓ | V42: ✓ | W42: ✓ | X42: ✓ | Y42: ✓ | Z42: ✓ | AA42: ✓ | AF42: 08-7322126 | AG42: 900屏東市復興路181號1樓 | AH42: 網站
A43: =ROW()-2 -> 41 | B43: 有限責任屏東縣好好照顧勞動合作社附設屏東縣私立四季如春社區長照機構 | E43: ✓ | I43: ✓ | T43: ✓ | U43: ✓ | V43: ✓ | W43: ✓ | X43: ✓ | Y43: ✓ | Z43: ✓ | AA43: ✓ | AB43: ✓ | AC43: ✓ | AD43: ✓ | AE43: ✓ | AF43: 08-7561318 | AG43: 900屏東市復興南路一段456號1樓 | AH43: 網站
A44: =ROW()-2 -> 42 | B44: 有限責任屏東縣安心照顧服務勞動合作社附設屏東縣私立心安居家長照機構 | C44: ✓ | H44: ✓ | T44: ✓ | U44: ✓ | V44: ✓ | W44: ✓ | X44: ✓ | Y44: ✓ | Z44: ✓ | AA44: ✓ | AF44: 08-7661797 | AG44: 900屏東市自由路586-3號2樓 | AH44: 網站
A45: =ROW()-2 -> 43 | B45: 有限責任屏東縣恆大照顧服務勞動合作社附設私立恆大居家長照機構 | C45: ✓ | H45: ✓ | T45: ✓ | U45: ✓ | V45: ✓ | W45: ✓ | X45: ✓ | Y45: ✓ | Z45: ✓ | AA45: ✓ | AB45: ✓ | AC45: ✓ | AD45: ✓ | AE45: ✓ | AF45: 08-7629060 08-8755006 | AG45: 908屏東縣長治鄉德協村中興路641號 927屏東縣林邊鄉永樂村新興路54巷32號 | AH45: 地圖
A46: =ROW()-2 -> 44 | B46: 有限責任屏東縣原住民瑪恰屋照顧服務勞動合作社附設私立瑪恰屋居家長照機構 | C46: ✓ | H46: ✓ | AB46: ✓ | AC46: ✓ | AD46: ✓ | AE46: ✓ | AF46: 08-7830520 | AG46: 921屏東縣泰武鄉武潭村潭中巷11-1號 | AH46: 網站
A47: =ROW()-2 -> 45 | B47: 有限責任屏東縣第一照顧服務勞動合作社附設私立萬丹紅社區長照機構 | E47: ✓ | I47: ✓ | T47: ✓ | U47: ✓ | V47: ✓ | W47: ✓ | X47: ✓ | Y47: ✓ | Z47: ✓ | AA47: ✓ | AB47: ✓ | AC47: ✓ | AD47: ✓ | AE47: ✓ | AF47: 08-7070767 | AG47: 913屏東縣萬丹鄉社皮村大昌路495號1樓 | AH47: 網站
A48: =ROW()-2 -> 46 | B48: 有限責任屏東縣第一照顧服務勞動合作社附設屏東縣私立第一居家式長期照顧服務機構 | C48: ✓ | H48: ✓ | T48: ✓ | U48: ✓ | V48: ✓ | W48: ✓ | AB48: ✓ | AC48: ✓ | AD48: ✓ | AE48: ✓ | AF48: 08-7764516 08-7760048 08-7761314 | AG48: 913屏東縣萬丹鄉成功街二段166號 | AH48: 網站
A49: =ROW()-2 -> 47 | B49: 有限責任屏東縣傳愛照顧勞動合作社附設私立傳愛居家長照機構 | C49: ✓ | H49: ✓ | T49: ✓ | U49: ✓ | V49: ✓ | W49: ✓ | X49: ✓ | Y49: ✓ | Z49: ✓ | AA49: ✓ | AB49: ✓ | AC49: ✓ | AD49: ✓ | AE49: ✓ | AF49: 08-7364079 08-7212768(居喘) | AG49: 900屏東市華山里14鄰瑞光路三段32號1樓 | AH49: 網站
A50: =ROW()-2 -> 48 | B50: 有限責任屏東縣愛三倍照顧勞動合作社附設屏東縣愛三倍居家長照機構 | C50: ✓ | H50: ✓ | T50: ✓ | U50: ✓ | V50: ✓ | W50: ✓ | AB50: ✓ | AC50: ✓ | AD50: ✓ | AE50: ✓ | AF50: 08-7760109 | AG50: 913屏東縣萬丹鄉萬全村萬榮街90號1樓 | AH50: 網站
A51: =ROW()-2 -> 49 | B51: 有限責任屏東縣經立照顧服務勞動合作社附設私立經立社區長照機構 | E51: ✓ | I51: ✓ | K51: ✓ | T51: ✓ | U51: ✓ | V51: ✓ | W51: ✓ | X51: ✓ | Y51: ✓ | Z51: ✓ | AA51: ✓ | AB51: ✓ | AC51: ✓ | AD51: ✓ | AE51: ✓ | AF51: 08-8717688#8116 | AG51: 940屏東縣枋寮鄉天時村1鄰建興路36號1-3號 | AH51: 網站 | AJ51: 16:30-17:30為延托
A52: =ROW()-2 -> 50 | B52: 有限責任屏東縣經立照顧服務勞動合作社附設私立經立綜合長照機構 | E52: ✓ | T52: ✓ | U52: ✓ | V52: ✓ | W52: ✓ | X52: ✓ | Y52: ✓ | Z52: ✓ | AA52: ✓ | AB52: ✓ | AC52: ✓ | AD52: ✓ | AE52: ✓ | AF52: 08-7971717#3117 | AG52: 925屏東縣新埤鄉新埤村新華路266號1樓 | AH52: 網站
A53: =ROW()-2 -> 51 | B53: 有限責任屏東縣經立照顧服務勞動合作社附設私立萬隆社區長照機構 | I53: ✓ | T53: ✓ | U53: ✓ | V53: ✓ | W53: ✓ | X53: ✓ | Y53: ✓ | Z53: ✓ | AA53: ✓ | AB53: ✓ | AC53: ✓ | AD53: ✓ | AE53: ✓ | AF53: 08-7870888#6112 | AG53: 925屏東縣新埤鄉玉環路71-2號 | AH53: 網站
A54: =ROW()-2 -> 52 | B54: 有限責任臺灣第二照顧服務勞動合作社附設屏東縣私立居家長照機構 | C54: ✓ | H54: ✓ | T54: ✓ | U54: ✓ | V54: ✓ | W54: ✓ | X54: ✓ | Y54: ✓ | Z54: ✓ | AA54: ✓ | AB54: ✓ | AC54: ✓ | AD54: ✓ | AE54: ✓ | AF54: 08-7517505 0926990106(居服) 0963611296(居喘) | AG54: 900屏東市民族路210-1號 | AH54: 網站
A55: =ROW()-2 -> 53 | B55: 竹田鄉南勢樂憶社區服務據點 | O55: ✓ | AC55: ✓ | AF55: 08-7780905 0937379944 | AG55: 911屏東縣竹田鄉南勢村南興路9號 | AH55: 網站
A56: =ROW()-2 -> 54 | B56: 行動居家物理治療所 | G56: ✓ | T56: ✓ | U56: ✓ | V56: ✓ | W56: ✓ | X56: ✓ | Y56: ✓ | Z56: ✓ | AA56: ✓ | AB56: ✓ | AC56: ✓ | AD56: ✓ | AE56: ✓ | AF56: 0911-087-732 | AG56: 928屏東縣東港鎮新義路70號 | AH56: 網站
A57: =ROW()-2 -> 55 | B57: 吾老莊長照社團法人附設屏東縣私立吾老莊住宿式長照機構 | J57: ✓ | T57: ✓ | U57: ✓ | V57: ✓ | W57: ✓ | X57: ✓ | Y57: ✓ | Z57: ✓ | AA57: ✓ | AB57: ✓ | AC57: ✓ | AD57: ✓ | AE57: ✓ | AF57: 08-7812972 | AG57: 923屏東縣萬巒鄉萬和村中正路2-7號 | AH57: 網站
A58: =ROW()-2 -> 56 | B58: 希望愛居家護理所 | G58: ✓ | T58: ✓ | U58: ✓ | V58: ✓ | W58: ✓ | AB58: ✓ | AC58: ✓ | AD58: ✓ | AE58: ✓ | AF58: 08-7810028 0919-626007 | AG58: 923屏東縣萬巒鄉萬和村褒忠路93號1樓 | AH58: X | AI58: X
A59: =ROW()-2 -> 57 | B59: 育安居家護理所 | G59: ✓ | T59: ✓ | U59: ✓ | V59: ✓ | W59: ✓ | X59: ✓ | Y59: ✓ | Z59: ✓ | AA59: ✓ | AB59: ✓ | AC59: ✓ | AD59: ✓ | AE59: ✓ | AF59: 0960-807736 | AG59: 908屏東縣長治鄉繁華村華中街10號 | AH59: 網站
A60: =ROW()-2 -> 58 | B60: 里港失智社區服務據點 | O60: ✓ | Y60: ✓ | AF60: 08-7759087 | AG60: 905屏東縣里港鄉鐵店路41之46號 | AH60: 網站
A61: =ROW()-2 -> 59 | B61: 亞希管理顧問股份有限公司附設屏東縣私立青燕居家長照機構 | C61: ✓ | H61: ✓ | X61: ✓ | Y61: ✓ | Z61: ✓ | AA61: ✓ | AF61: 08-7938365 | AG61: 907屏東縣鹽埔鄉鹽南村光復路113-3號 | AH61: 網站
A62: =ROW()-2 -> 60 | B62: 享清福長照社團法人附設屏東縣私立享清福綜合長照機構 | E62: ✓ | I62: ✓ | J62: ✓ | T62: ✓ | U62: ✓ | V62: ✓ | W62: ✓ | X62: ✓ | Y62: ✓ | Z62: ✓ | AA62: ✓ | AB62: ✓ | AC62: ✓ | AD62: ✓ | AE62: ✓ | AF62: 08-7702555 | AG62: 912屏東縣內埔鄉中林村中林路1136號 | AH62: 網站 | AJ62: 週一至週六08:00~17:00(16:30至17:00為延托)，週六每月提供2次
A63: =ROW()-2 -> 61 | B63: 來家作伴思想起失智社區照護據點 | O63: ✓ | T63: ✓ | AF63: 0906-728482 | AG63: 900屏東市大湖路58巷22號 | AH63: X | AI63: X | AJ63: 週一至週六07:30~17:00(07:30至08:00為早托；16:30至17:00為延托)，週六每月提供2次
A64: =ROW()-2 -> 62 | B64: 幸運草居家護理所 | H64: ✓ | T64: ✓ | U64: ✓ | V64: ✓ | W64: ✓ | X64: ✓ | Y64: ✓ | Z64: ✓ | AA64: ✓ | AB64: ✓ | AC64: ✓ | AD64: ✓ | AE64: ✓ | AF64: 08-7519122 0989161557 | AG64: 900屏東市前進里清進路830號1樓 | AH64: 地圖
A65: =ROW()-2 -> 63 | B65: 東港護理之家 | J65: ✓ | T65: ✓ | U65: ✓ | V65: ✓ | W65: ✓ | X65: ✓ | Y65: ✓ | Z65: ✓ | AA65: ✓ | AB65: ✓ | AC65: ✓ | AD65: ✓ | AE65: ✓ | AF65: 08-8354747 | AG65: 928屏東縣東港鎮船頭里大東路183號 | AH65: 網站
A66: =ROW()-2 -> 64 | B66: 松柏樂復易有限公司附設屏東縣私立松柏樂復易東港社區長照機構 | E66: ✓ | I66: ✓ | T66: ✓ | U66: ✓ | V66: ✓ | W66: ✓ | X66: ✓ | Y66: ✓ | Z66: ✓ | AA66: ✓ | AB66: ✓ | AC66: ✓ | AD66: ✓ | AE66: ✓ | AF66: 08-8328940 | AG66: 928屏東縣東港鎮東津里船頭路5號1樓 | AH66: 網站 | AI66: 松柏
A67: =ROW()-2 -> 65 | B67: 松柏樂復易萬巒樂智學堂 | O67: ✓ | AB67: ✓ | AF67: 08-7811131 | AG67: 923屏東縣萬巒鄉南進路23-7號 | AH67: 網站 | AI67: 松柏 | AJ67: 週一至週五07:00-18:00 (07:00-08:00為早托; 17:00-18:00為延托)
A68: =ROW()-2 -> 66 | B68: 社團法人中華家庭暨社區展望協會 | R68: ✓ | S68: ✓ | U68: ✓ | AB68: ✓ | AC68: ✓ | AD68: ✓ | AF68: 08-7362001 | AG68: 900屏東市中山路281號 | AH68: 網站
A69: =ROW()-2 -> 67 | B69: 社團法人中華家庭暨社區展望協會 | P69: ✓ | AB69: ✓ | AC69: ✓ | AD69: ✓ | AE69: ✓ | AF69: 08-7321822(總機) 0905-312387 平地區 0909-072906 原鄉區 | AG69: 900屏東市中山路281號 | AH69: 網站
A70: =ROW()-2 -> 68 | B70: 社團法人中華家庭暨社區展望協會附設屏東縣私立依立瓦社區長照機構 | I70: ✓ | T70: ✓ | U70: ✓ | V70: ✓ | W70: ✓ | X70: ✓ | Y70: ✓ | Z70: ✓ | AA70: ✓ | AB70: ✓ | AC70: ✓ | AD70: ✓ | AE70: ✓ | AF70: 08-7982147 | AG70: 922屏東縣來義鄉望嘉村望嘉114-3號 | AH70: 網站
A71: =ROW()-2 -> 69 | B71: 社團法人中華家庭暨社區展望協會附設屏東縣私立居家式服務類長期照顧服務機構 | C71: ✓ | H71: ✓ | AB71: ✓ | AC71: ✓ | AD71: ✓ | AE71: ✓ | AF71: 08-7851878 | AG71: 922屏東縣來義鄉古樓村中正路24號 | AH71: 網站 | AI71: 中華家展
A72: =ROW()-2 -> 70 | B72: 社團法人中華萱民會附設屏東縣私立中華萱民會居家式長期照顧服務機構 | C72: ✓ | H72: ✓ | T72: ✓ | U72: ✓ | V72: ✓ | W72: ✓ | AB72: ✓ | AC72: ✓ | AD72: ✓ | AE72: ✓ | AF72: 08-7217875 | AG72: 900屏東市瑞光里和生路1段14號4樓-1 | AH72: 網站
A73: =ROW()-2 -> 71 | B73: 社團法人台灣五府千歲慈善展望會附設屏東縣私立社區式服務類長期照顧服務機構 | E73: ✓ | I73: ✓ | T73: ✓ | U73: ✓ | V73: ✓ | W73: ✓ | X73: ✓ | Y73: ✓ | Z73: ✓ | AA73: ✓ | AB73: ✓ | AC73: ✓ | AD73: ✓ | AE73: ✓ | AF73: 08-7397105 | AG73: 904屏東縣九如鄉東寧村九如路二段266號1樓 | AH73: 網站
A74: =ROW()-2 -> 72 | B74: 社團法人台灣明宙社會公益慈善協會附設屏東縣私立明宙社區長照機構 | E74: ✓ | I74: ✓ | T74: ✓ | U74: ✓ | V74: ✓ | W74: ✓ | X74: ✓ | Y74: ✓ | Z74: ✓ | AA74: ✓ | AB74: ✓ | AC74: ✓ | AD74: ✓ | AE74: ✓ | AF74: 08-7780033 | AG74: 912屏東縣內埔鄉統嶺巷128、130號 | AH74: 網站 | AI74: 老埤明宙
A75: =ROW()-2 -> 73 | B75: 社團法人屏東銘惠照顧關懷協會附設銘惠居家長照機構 | C75: ✓ | H75: ✓ | T75: ✓ | U75: ✓ | V75: ✓ | W75: ✓ | AB75: ✓ | AC75: ✓ | AD75: ✓ | AE75: ✓ | AF75: 08-7220286、 7220285、 08-8660212 傳真：08-7220280、08-8660213 | AG75: 909屏東縣麟洛鄉麟趾村中華路26號1樓 | AH75: 網站
A76: =ROW()-2 -> 74 | B76: 社團法人屏東縣平原鄉土文化協會附設私立三間屋居家長照機構 | C76: ✓ | H76: ✓ | AB76: ✓ | AC76: ✓ | AD76: ✓ | AE76: ✓ | AF76: 08-7780085 | AG76: 912屏東縣內埔鄉美和村學人路88號 | AH76: 地圖
A77: =ROW()-2 -> 75 | B77: 社團法人屏東縣志願服務協會附設私立安家居家長照機構 | C77: ✓ | H77: ✓ | T77: ✓ | U77: ✓ | V77: ✓ | W77: ✓ | X77: ✓ | Y77: ✓ | Z77: ✓ | AA77: ✓ | AF77: 08-7350180 | AG77: 900屏東市北勢里公德一街17號1樓 | AH77: 地圖
A78: =ROW()-2 -> 76 | B78: 社團法人屏東縣社會福利聯盟 | M78: ✓ | AB78: ✓ | AC78: ✓ | AD78: ✓ | AE78: ✓ | AF78: 08-7883344#13 | AG78: 920屏東縣潮州鎮新生里六合路59號 | AH78: 網站
A79: =ROW()-2 -> 77 | B79: 社團法人屏東縣啟智協進會附設私立心家社區長照機構 | E79: ✓ | I79: ✓ | T79: ✓ | U79: ✓ | V79: ✓ | W79: ✓ | X79: ✓ | Y79: ✓ | Z79: ✓ | AA79: ✓ | AB79: ✓ | AC79: ✓ | AD79: ✓ | AE79: ✓ | AF79: 08-7366285 | AG79: 900屏東市中正路419號3樓 | AH79: 網站
A80: =ROW()-2 -> 78 | B80: 社團法人屏東縣惠群照顧關懷協會附設私立惠群居家長照機構 | C80: ✓ | H80: ✓ | T80: ✓ | U80: ✓ | V80: ✓ | W80: ✓ | AB80: ✓ | AC80: ✓ | AD80: ✓ | AE80: ✓ | AF80: 08-7785737 08-7785738 | AG80: 912屏東縣內埔鄉東寧村勝利路167號 | AH80: 網站
A81: =ROW()-2 -> 79 | B81: 社團法人屏東縣愛心樹慈善會附設番紅花居家長照機構 | C81: ✓ | H81: ✓ | AB81: ✓ | AC81: ✓ | AD81: ✓ | AE81: ✓ | AF81: 08-7785513 | AG81: 912屏東縣內埔鄉興南村昌宏路187號 | AH81: 地圖
A82: =ROW()-2 -> 80 | B82: 社團法人屏東縣聖佳照顧關懷協會附設私立竹田社區長照機構 | E82: ✓ | I82: ✓ | T82: ✓ | U82: ✓ | V82: ✓ | W82: ✓ | X82: ✓ | Y82: ✓ | Z82: ✓ | AA82: ✓ | AB82: ✓ | AC82: ✓ | AD82: ✓ | AE82: ✓ | AF82: 08-7801237 | AG82: 911屏東縣竹田鄉鳳明村福安路46號2樓 | AH82: 網站
A83: =ROW()-2 -> 81 | B83: 社團法人屏東縣聖佳照顧關懷協會附設私立萬巒社區長照機構 | E83: ✓ | I83: ✓ | T83: ✓ | U83: ✓ | V83: ✓ | W83: ✓ | X83: ✓ | Y83: ✓ | Z83: ✓ | AA83: ✓ | AB83: ✓ | AC83: ✓ | AD83: ✓ | AE83: ✓ | AF83: 08-7833050 | AG83: 923屏東縣萬巒鄉佳佐村民生路28之12號1樓 | AH83: 網站
A84: =ROW()-2 -> 82 | B84: 社團法人屏東縣聖佳照顧關懷協會附設屏東縣私立聖佳居家長照機構 | C84: ✓ | G84: 115/4/13起暫停 | H84: ✓ | T84: ✓ | U84: ✓ | V84: ✓ | W84: ✓ | X84: ✓ | Y84: ✓ | Z84: ✓ | AA84: ✓ | AB84: ✓ | AC84: ✓ | AD84: ✓ | AE84: ✓ | AF84: 08-7788623 08-7788553(專業) 0971-579-669 | AG84: 912屏東縣內埔鄉勝光路59號 904屏東縣九如鄉九明村16鄰光復街121巷22弄1號1樓 | AH84: 網站
A85: =ROW()-2 -> 83 | B85: 社團法人屏東縣腦性麻痺服務協會附設私立安心居家長照機構 | C85: ✓ | H85: ✓ | X85: ✓ | Y85: ✓ | Z85: ✓ | AA85: ✓ | AF85: 08-7323282 | AG85: 900屏東市福建路76巷5號1樓 | AH85: 網站
A86: =ROW()-2 -> 84 | B86: 社團法人屏東縣腦性麻痺服務協會附設私立萬和社區長照機構 | E86: ✓ | I86: ✓ | T86: ✓ | U86: ✓ | V86: ✓ | W86: ✓ | X86: ✓ | Y86: ✓ | Z86: ✓ | AA86: ✓ | AB86: ✓ | AC86: ✓ | AD86: ✓ | AE86: ✓ | AF86: 08-7810191 | AG86: 923屏東縣萬巒鄉萬全村褒忠路16之1號3樓 | AH86: 網站
A87: =ROW()-2 -> 85 | B87: 社團法人屏東縣誠恩關懷協會私立誠恩社區長照機構 | E87: ✓ | I87: ✓ | T87: ✓ | U87: ✓ | V87: ✓ | W87: ✓ | X87: ✓ | Y87: ✓ | Z87: ✓ | AA87: ✓ | AB87: ✓ | AC87: ✓ | AD87: ✓ | AE87: ✓ | AF87: 08-7756917 | AG87: 905屏東縣里港鄉永春村民生路21號1樓 | AH87: 網站
A88: =ROW()-2 -> 86 | B88: 社團法人屏東縣嘉屏照顧關懷協會附設私立嘉屏居家長照機構 | C88: ✓ | H88: ✓ | T88: ✓ | U88: ✓ | V88: ✓ | W88: ✓ | AB88: ✓ | AC88: ✓ | AD88: ✓ | AE88: ✓ | AF88: 08-7798009/#10(居喘) | AG88: 912屏東縣內埔鄉豐田村新豐路16號1樓 | AH88: 網站
A89: =ROW()-2 -> 87 | B89: 社團法人屏東縣瑪家鄉全人發展照護關懷協會私立社區長照機構 | I89: ✓ | T89: ✓ | U89: ✓ | V89: ✓ | W89: ✓ | X89: ✓ | Y89: ✓ | Z89: ✓ | AA89: ✓ | AB89: ✓ | AC89: ✓ | AD89: ✓ | AE89: ✓ | AF89: 08-7990072#21 | AG89: 903屏東縣瑪家鄉佳義村泰平巷77-3號 | AH89: 網站
A90: =ROW()-2 -> 88 | B90: 社團法人屏東縣樂活自立支援協會附設私立大家來作伴社區長照機構 | E90: ✓ | I90: ✓ | T90: ✓ | U90: ✓ | V90: ✓ | W90: ✓ | X90: ✓ | Y90: ✓ | Z90: ✓ | AA90: ✓ | AB90: ✓ | AC90: ✓ | AD90: ✓ | AE90: ✓ | AF90: 08-7899638 | AG90: 913屏東縣萬丹鄉新庄村新庄路16號1樓 | AH90: 網站 | AI90: 萬巒自立支援
A91: =ROW()-2 -> 89 | B91: 社團法人屏東縣躍愛全人關懷協會 | M91: ✓ | T91: ✓ | U91: ✓ | V91: ✓ | W91: ✓ | AF91: 08-7517858 | AG91: 900屏東市華盛街41號 | AH91: 網站
A92: =ROW()-2 -> 90 | B92: 社團法人高雄市生活復健自立支援協會附設屏東縣私立萬巒社區長照機構 | E92: ✓ | I92: ✓ | T92: ✓ | U92: ✓ | V92: ✓ | W92: ✓ | X92: ✓ | Y92: ✓ | Z92: ✓ | AA92: ✓ | AB92: ✓ | AC92: ✓ | AD92: ✓ | AE92: ✓ | AF92: 08-7810071 08-7815278(日喘) | AG92: 923屏東縣萬巒鄉萬全村褒忠路16之1號2樓 | AH92: 地圖
A93: =ROW()-2 -> 91 | B93: 長安長照社團法人附設屏東縣私立長安綜合長照機構 | E93: ✓ | I93: ✓ | T93: ✓ | U93: ✓ | V93: ✓ | W93: ✓ | X93: ✓ | Y93: ✓ | Z93: ✓ | AA93: ✓ | AB93: ✓ | AC93: ✓ | AD93: ✓ | AE93: ✓ | AF93: 08-7396612 | AG93: 904屏東縣九如鄉九塊村九里路135號 | AH93: 網站 | AI93: 長安
A94: =ROW()-2 -> 92 | B94: 長榮長照社團法人附設屏東縣私立長榮綜合長照機構 | C94: ✓ | H94: ✓ | T94: ✓ | U94: ✓ | V94: ✓ | W94: ✓ | AF94: 08-7261163(居家式) 08-7261183(住宿式) | AG94: 909屏東縣麟洛鄉田中村中華路143號 | AH94: 網站 | AI94: 夜間喘息-長榮 | AJ94: 週六08:00-18:00(17:00-18:00為延托)
A95: =ROW()-2 -> 93 | B95: 長榮長照社團法人附設屏東縣私立長榮綜合長照機構 | E95: ✓ | I95: ✓ | J95: ✓ | K95: ✓ | T95: ✓ | U95: ✓ | V95: ✓ | W95: ✓ | X95: ✓ | Y95: ✓ | Z95: ✓ | AA95: ✓ | AB95: ✓ | AC95: ✓ | AD95: ✓ | AE95: ✓ | AF95: 08-7261163居家式 08-7261184住宿式 08-7261143(小規機) | AG95: 909屏東縣麟洛鄉田中村中華路143號 | AH95: 網站
A96: =ROW()-2 -> 94 | B96: 長榮護理之家 | T96: ✓ | U96: ✓ | V96: ✓ | W96: ✓ | X96: ✓ | Y96: ✓ | Z96: ✓ | AA96: ✓ | AB96: ✓ | AC96: ✓ | AD96: ✓ | AE96: ✓ | AF96: 08-7261183 | AG96: 909屏東縣麟洛鄉田中村中華路143號 | AH96: 網站
A97: =ROW()-2 -> 95 | B97: 青松大武股份有限公司附設屏東縣私立昌黎綜合長照機構 | C97: ✓ | E97: ✓ | H97: ✓ | I97: ✓ | Q97: ✓ | T97: ✓ | U97: ✓ | V97: ✓ | W97: ✓ | X97: ✓ | Y97: ✓ | Z97: ✓ | AA97: ✓ | AB97: ✓ | AC97: ✓ | AD97: ✓ | AE97: ✓ | AF97: 08-7781146 08-7782667 | AG97: 912屏東縣內埔鄉內埔村中華三街 10、12 號(家屋12號) | AH97: 網站 | AI97: 青松大武
A98: =ROW()-2 -> 96 | B98: 前進樂智老幼學堂 | O98: ✓ | T98: ✓ | AF98: 08-7325455轉131 08-7551126 | AG98: 900屏東市建國路405巷100弄39號(前進國小) | AH98: 網站
A99: =ROW()-2 -> 97 | B99: 南門長照社團法人附設屏東縣私立南門綜合長照機構 | I99: ✓ | J99: ✓ | T99: ✓ | U99: ✓ | V99: ✓ | W99: ✓ | X99: ✓ | Y99: ✓ | Z99: ✓ | AA99: ✓ | AB99: ✓ | AC99: ✓ | AD99: ✓ | AE99: ✓ | AF99: 08-8203279 | AG99: 946屏東縣恆春鎮網紗里草埔路73、75號 | AH99: 網站
A100: =ROW()-2 -> 98 | B100: 南門醫療社團法人南門醫院 | N100: ✓ | T100: ✓ | U100: ✓ | V100: ✓ | W100: ✓ | X100: ✓ | Y100: ✓ | Z100: ✓ | AA100: ✓ | AB100: ✓ | AC100: ✓ | AD100: ✓ | AE100: ✓ | AF100: 889-4568 轉217 | AG100: 946屏東縣恆春鎮南門路10號 | AH100: 網站
...

Sheet 全+發文用
B1: 機構名稱 | C1: 信箱 | D1: 地址
B2: 屏基醫療財團法人附設屏東縣私立屏基居家式服務類長期照顧服務機構 | C2: 02858@ptch.org.tw | D2: {=INDEX(屏東市B!$AG:$AG,MATCH(B2,屏東市B!$B:$B,0),1)} -> 900屏東市瑞光路三段96號
B3: 屏基醫療財團法人附設屏基護理之家 | C3: 06760@ptch.org.tw | D3: {=INDEX(屏東市B!$AG:$AG,MATCH(B3,屏東市B!$B:$B,0),1)} -> 900屏東市華山里瑞光路三段96號1樓
B4: 捷乘交通有限公司 | C4: 11guailin01@gmail.com | D4: {=INDEX(屏東市B!$AG:$AG,MATCH(B4,屏東市B!$B:$B,0),1)} -> 900屏東市復光街10-88號
B5: 琉球鄉衛生所附設護理之家 | C5: 1200296@fy.org.tw | D5: {=INDEX(屏東市B!$AG:$AG,MATCH(B5,屏東市B!$B:$B,0),1)} -> 929屏東縣琉球鄉漁福村本漁路23號
B6: 日日賀有限公司附設屏東縣私立日日賀居家長照機構 | C6: 2021everydaynice@gmail.com | D6: {=INDEX(屏東市B!$AG:$AG,MATCH(B6,屏東市B!$B:$B,0),1)} -> 923屏東縣萬巒鄉萬金村中正路67-5號1樓
B7: 寶建醫療社團法人附設春風護理之家 | C7: 4032@mail.paochien.com.tw | D7: {=INDEX(屏東市B!$AG:$AG,MATCH(B7,屏東市B!$B:$B,0),1)} -> 900屏東市自由路650-1號3-5樓
B8: 健安護理之家 | C8: 7526600@gmail.com | D8: {=INDEX(屏東市B!$AG:$AG,MATCH(B8,屏東市B!$B:$B,0),1)} -> 900屏東市復興南路一段108巷26號
B9: 財團法人台灣省私立孝愛仁愛之家附設屏東縣居家長照機構 | C9: 7882351@gmail.com | D9: {=INDEX(屏東市B!$AG:$AG,MATCH(B9,屏東市B!$B:$B,0),1)} -> 920屏東縣潮州鎮四維路189巷13號
B10: 天生長照社團法人附設屏東縣私立天生住宿長照機構 | C10: 8631317@gmail.com | D10: {=INDEX(屏東市B!$AG:$AG,MATCH(B10,屏東市B!$B:$B,0),1)} -> 924屏東縣崁頂鄉北勢村中正路838號
B11: 崑泰長照社團法人附設屏東縣私立崑泰住宿長照機構 | C11: 8635667@gmail.com | D11: {=INDEX(屏東市B!$AG:$AG,MATCH(B11,屏東市B!$B:$B,0),1)} -> 924屏東縣崁頂鄉北勢村中正路836號
B12: 天心物理治療所 | C12: 9155u7@gmail.com | D12: {=INDEX(屏東市B!$AG:$AG,MATCH(B12,屏東市B!$B:$B,0),1)} -> 807高雄市三民區九如一路54巷3號1樓
B13: 屏東縣私立頭前溪老人養護中心 | C13: a087519182@yahoo.com.tw | D13: {=INDEX(屏東市B!$AG:$AG,MATCH(B13,屏東市B!$B:$B,0),1)} -> 900屏東市前進里前進路280號
A14: 原鄉 | B14: 財團法人一粒麥子社會福利慈善事業基金會附設屏東縣私立獅子社區長照機構 | C14: a09029@wheat.org.tw | D14: {=INDEX(屏東市B!$AG:$AG,MATCH(B14,屏東市B!$B:$B,0),1)} -> 943屏東縣獅子鄉楓林村楓林二巷31號1樓
B15: 屏東縣私立大盛魁居家長照機構 | C15: a0903989957@gmail.com | D15: {=INDEX(屏東市B!$AG:$AG,MATCH(B15,屏東市B!$B:$B,0),1)} -> 900屏東市歸禮巷107號
B16: 屏東縣私立心青華居家長照機構 | C16: a0908952553@gmail.com | D16: {=INDEX(屏東市B!$AG:$AG,MATCH(B16,屏東市B!$B:$B,0),1)} -> 900屏東市大武路249號
B17: 屏東縣私立龍潭社區長照機構 | C17: a0912992512@gmail.com | D17: {=INDEX(屏東市B!$AG:$AG,MATCH(B17,屏東市B!$B:$B,0),1)} -> 912屏東縣內埔鄉龍潭村龍德路66號1樓
B18: 屏東縣私立沐恩社區長照機構 | C18: a0916082121@gmail.com | D18: {=INDEX(屏東市B!$AG:$AG,MATCH(B18,屏東市B!$B:$B,0),1)} -> 903屏東縣瑪家鄉三和村三和63號
B19: 社團法人屏東縣腦性麻痺服務協會附設私立安心居家長照機構 | C19: a0917931188@gmail.com Myhome2019tw@gmail.com | D19: {=INDEX(屏東市B!$AG:$AG,MATCH(B19,屏東市B!$B:$B,0),1)} -> 900屏東市福建路76巷5號1樓
B20: 屏東縣全齡社會福利慈善協會附設私立全齡綜合長照機構 | C20: a0919632718@gmail.com | D20: {=INDEX(屏東市B!$AG:$AG,MATCH(B20,屏東市B!$B:$B,0),1)} -> 908屏東縣長治鄉進興村013鄰下寮巷36號
B21: 心安居家護理所 | C21: a0938937483@gmail.com | D21: {=INDEX(屏東市B!$AG:$AG,MATCH(B21,屏東市B!$B:$B,0),1)} -> 842高雄市旗山區復興東街57號1樓
B22: 財團法人蘇天生文教基金會附設屏東縣私立蘇天生居家長照機構 | C22: a095231@mail.tsmh.org.tw | D22: {=INDEX(屏東市B!$AG:$AG,MATCH(B22,屏東市B!$B:$B,0),1)} -> 924屏東縣崁頂鄉崁頂村中正路264-1號
B23: 屏東縣私立慧心居家長照機構 | C23: a0958663229@gmail.com | D23: {=INDEX(屏東市B!$AG:$AG,MATCH(B23,屏東市B!$B:$B,0),1)} -> 905屏東縣里港鄉過江村仁愛路81巷62弄12號
B24: 屏東縣私立瑞光社區長照機構 | C24: a0981991450@gmail.com | D24: {=INDEX(屏東市B!$AG:$AG,MATCH(B24,屏東市B!$B:$B,0),1)} -> 900屏東市瑞光里田中一橫巷179號1樓
B25: 行動居家物理治療所 | C25: a123147658@gmail.com | D25: {=INDEX(屏東市B!$AG:$AG,MATCH(B25,屏東市B!$B:$B,0),1)} -> 928屏東縣東港鎮新義路70號
B26: 財團法人屏東縣私立椰子園老人養護之家 | C26: a246877tw@gmail.com | D26: {=INDEX(屏東市B!$AG:$AG,MATCH(B26,屏東市B!$B:$B,0),1)} -> 908屏東縣長治鄉繁昌村振興路16-9號
... B33: 屏東縣私立長春園老人長期照顧中心（養護型） | C33: aa7962999@yahoo.com.tw | D33: {=INDEX(屏東市B!$AG:$AG,MATCH(B33,屏東市B!$B:$B,0),1)} -> 906屏東縣高樹鄉舊庄村慈新路二段50號
B34: 麗緻長照社團法人附設屏東縣私立麗緻住宿長照機構 | C34: aaa087626512@gmail.com | D34: 908屏東縣長治鄉德榮村下厝街5號
B35: 有限責任屏東縣傳愛照顧勞動合作社附設私立傳愛居家長照機構 | C35: abc7212758@gmail.com | D35: {=INDEX(屏東市B!$AG:$AG,MATCH(B35,屏東市B!$B:$B,0),1)} -> 900屏東市華山里14鄰瑞光路三段32號1樓
B36: 屏東縣私立青葉社區式長期照顧服務機構 | C36: abc7966242@gmail.com | D36: {=INDEX(屏東市B!$AG:$AG,MATCH(B36,屏東市B!$B:$B,0),1)} -> 901屏東縣三地門鄉青葉村4鄰光復路40-1號
B37: 安泰醫療社團法人附設安泰護理之家 | C37: adyq0216@gmail.com | D37: {=INDEX(屏東市B!$AG:$AG,MATCH(B37,屏東市B!$B:$B,0),1)} -> 924屏東縣崁頂鄉北勢村中正路840號
B38: 財團法人屏東縣私立國淳社會福利慈善事業基金會附設快樂魚社區長照機構 | C38: aeric701001@gmail.com | D38: {=INDEX(屏東市B!$AG:$AG,MATCH(B38,屏東市B!$B:$B,0),1)} -> 911屏東縣竹田鄉西勢村龍南路26-1號
B39: 社團法人屏東縣腦性麻痺服務協會附設私立萬和社區長照機構 | C39: arbintw@gmail.com | D39: {=INDEX(屏東市B!$AG:$AG,MATCH(B39,屏東市B!$B:$B,0),1)} -> 923屏東縣萬巒鄉萬全村褒忠路16之1號3樓
B40: 屏東縣私立芭琉猶斯社區長照機構 | C40: asd85263@gmail.com | D40: {=INDEX(屏東市B!$AG:$AG,MATCH(B40,屏東市B!$B:$B,0),1)} -> 903屏東縣瑪家鄉排灣村1鄰排灣5號
B41: 有限責任屏東縣恆大照顧服務勞動合作社附設私立恆大居家長照機構 | C41: b087629060@gmail.com | D41: {=INDEX(屏東市B!$AG:$AG,MATCH(B41,屏東市B!$B:$B,0),1)} -> 908屏東縣長治鄉德協村中興路641號 927屏東縣林邊鄉永樂村新興路54巷32號
B42: 屏東縣私立慈暉老人長期照顧中心(養護型) | C42: bear2926@hotmail.com | D42: {=INDEX(屏東市B!$AG:$AG,MATCH(B42,屏東市B!$B:$B,0),1)} -> 900屏東市大洲里富貴街61號
B43: 屏東縣私立都瑪拉拉多社區長照機構 | C43: bijhu0857@gmail.com | D43: {=INDEX(屏東市B!$AG:$AG,MATCH(B43,屏東市B!$B:$B,0),1)} -> 901屏東縣三地門鄉青山村民族巷46號
B44: 屏東縣私立慈航老人長期照顧中心(養護型) | C44: boss5745@yahoo.com.tw | D44: {=INDEX(屏東市B!$AG:$AG,MATCH(B44,屏東市B!$B:$B,0),1)} -> 912屏東縣內埔鄉建興村建興路218巷3號
B45: 屏東縣私立慈仁老人長期照顧機構(養護型) | C45: boss5745@yahoo.com.tw | D45: {=INDEX(屏東市B!$AG:$AG,MATCH(B45,屏東市B!$B:$B,0),1)} -> 912屏東縣內埔鄉建興村建興路218巷5號
B46: 財團法人高雄市郭吳麗珠社會福利慈善事業基金會附設屏東縣私立北興社區長照機構 | C46: bx.daycare@msa.hinet.net | D46: {=INDEX(屏東市B!$AG:$AG,MATCH(B46,屏東市B!$B:$B,0),1)} -> 900屏東市中正路419號4樓
... B54: 日旺事業有限公司附設屏東縣私立恆春城北社區長照機構 | C54: chengbei2797@gmail.com | D54: {=INDEX(屏東市B!$AG:$AG,MATCH(B54,屏東市B!$B:$B,0),1)} -> 946屏東縣恆春鎮新興路90巷32號2樓
B55: 日旺事業有限公司附設屏東縣私立恆春頭溝綜合長照機構 | C55: chengbei2797@gmail.com
B56: 民暉居家護理所 | C56: chigo1223@gmail.com | D56: {=INDEX(屏東市B!$AG:$AG,MATCH(B56,屏東市B!$B:$B,0),1)} -> 913屏東縣萬丹鄉中興路二段476號
B57: 耆安股份有限公司附設屏東縣私立耆安居家長照機構 | C57: chihanne.ltc@gmail.com | D57: {=INDEX(屏東市B!$AG:$AG,MATCH(B57,屏東市B!$B:$B,0),1)} -> 920屏東縣潮州鎮六合路71號1樓
B58: 屏東縣私立經立老人長期照顧中心(養護型) | C58: chingli.ss012@gmail.com | D58: {=INDEX(屏東市B!$AG:$AG,MATCH(B58,屏東市B!$B:$B,0),1)} -> 925屏東縣新埤鄉萬隆村萬安路68-20號
B59: 有限責任屏東縣經立照顧服務勞動合作社附設私立萬隆社區長照機構 | C59: chingli.wl001@gmail.com | D59: {=INDEX(屏東市B!$AG:$AG,MATCH(B59,屏東市B!$B:$B,0),1)} -> 925屏東縣新埤鄉玉環路71-2號
B60: 有限責任屏東縣經立照顧服務勞動合作社附設私立經立綜合長照機構 | C60: chingli47883209@gmail.com | D60: {=INDEX(屏東市B!$AG:$AG,MATCH(B60,屏東市B!$B:$B,0),1)} -> 925屏東縣新埤鄉新埤村新華路266號1樓
B61: 屏東縣私立靜園老人長期照顧中心(養護型) | C61: chingyuan5168@gmail.com | D61: {=INDEX(屏東市B!$AG:$AG,MATCH(B61,屏東市B!$B:$B,0),1)} -> 923屏東縣萬巒鄉硫磺村光復路37-8號
B62: 屏基醫療財團法人附設屏東市私立豐田豐源社區長照機構 | C62: chris13044@gmail.com | D62: {=INDEX(屏東市B!$AG:$AG,MATCH(B62,屏東市B!$B:$B,0),1)} -> 900屏東市豐田里建豐路105巷50號1樓
B63: 社團法人台灣五府千歲慈善展望會附設屏東縣私立社區式服務類長期照顧服務機構 | C63: chun723@gmail.com | D63: {=INDEX(屏東市B!$AG:$AG,MATCH(B63,屏東市B!$B:$B,0),1)} -> 904屏東縣九如鄉東寧村九如路二段266號1樓
B64: 享清福長照社團法人附設屏東縣私立享清福綜合長照機構 | C64: cjchang1980@hotmail.com | D64: {=INDEX(屏東市B!$AG:$AG,MATCH(B64,屏東市B!$B:$B,0),1)} -> 912屏東縣內埔鄉中林村中林路1136號
B65: 屏東縣私立新安老人長期照顧中心(養護型) | C65: cn087973737@gmail.com | D65: {=INDEX(屏東市B!$AG:$AG,MATCH(B65,屏東市B!$B:$B,0),1)} -> 925屏東縣新埤鄉新埤村中正路96號
B66: 屏東縣私立大愛社區長照機構 | C66: Codagogogo987@gmail.com | D66: {=INDEX(屏東市B!$AG:$AG,MATCH(B66,屏東市B!$B:$B,0),1)} -> 927屏東縣林邊鄉水利村豊漁路115號1樓
B67: 康福職能治療所 | C67: Comfortotc@gmail.com
B68: 有限責任屏東縣大屏南照顧服務勞動合作社附設私立大屏南居家長照機構 | C68: dapingna168@gmail.com | D68: {=INDEX(屏東市B!$AG:$AG,MATCH(B68,屏東市B!$B:$B,0),1)} -> 932屏東縣新園鄉烏龍村南興路368巷6號1樓
B69: 屏東縣私立大芯居家長照機構 | C69: dashin20200317@gmail.com | D69: 907屏東縣鹽埔鄉鹽中村民族路95號2樓
B70: 青松大武股份有限公司附設屏東縣私立昌黎綜合長照機構 | C70: dawuchanglicom@qingsong.com.tw | D70: {=INDEX(屏東市B!$AG:$AG,MATCH(B70,屏東市B!$B:$B,0),1)} -> 912屏東縣內埔鄉內埔村中華三街 10、12 號(家屋12號)
B71: 屏東縣森陽長照服務發展協會附設私立時光居社區長照機構 | C71: df870191@gmail.com | D71: {=INDEX(屏東市B!$AG:$AG,MATCH(B71,屏東市B!$B:$B,0),1)} -> 941屏東縣枋山鄉莿桐路3號1樓
B72: 屏東縣森陽長照服務發展協會附設私立枋森活社區長照機構 | C72: df870191@gmail.com | D72: {=INDEX(屏東市B!$AG:$AG,MATCH(B72,屏東市B!$B:$B,0),1)} -> 941屏東縣枋山鄉楓港村港邊188號
B73: 森陽物理治療所 | C73: df870191@gmail.com | D73: {=INDEX(屏東市B!$AG:$AG,MATCH(B73,屏東市B!$B:$B,0),1)} -> 943屏東縣獅子鄉楓林村楓林一巷4-1號1樓
B74: 康乃心護理之家 | C74: diarrhea0812@yahoo.com.tw | D74: {=INDEX(屏東市B!$AG:$AG,MATCH(B74,屏東市B!$B:$B,0),1)} -> 900屏東市忠孝路580號
B75: 財團法人中華民國佛教慈濟慈善事業基金會屏東縣私立慈濟東港社區長照機構 | C75: dong92396090@gmail.com | D75: {=INDEX(屏東市B!$AG:$AG,MATCH(B75,屏東市B!$B:$B,0),1)} -> 928屏東縣東港鎮新街里沿海路171號
B76: 凱悅護理之家 | C76: dora0225@yahoo.com.tw | D76: {=INDEX(屏東市B!$AG:$AG,MATCH(B76,屏東市B!$B:$B,0),1)} -> 900屏東市仁義里海豐街82號
B77: 社團法人高雄市生活復健自立支援協會附設屏東縣私立萬巒社區長照機構 | C77: eby41111@gmail.com | D77: {=INDEX(屏東市B!$AG:$AG,MATCH(B77,屏東市B!$B:$B,0),1)} -> 923屏東縣萬巒鄉萬全村褒忠路16之1號2樓
B78: 財團法人伊甸社會福利基金會附設屏東縣私立頤福社區式服務類長期照顧服務機構 | C78: eden8396@eden.org.tw | D78: {=INDEX(屏東市B!$AG:$AG,MATCH(B78,屏東市B!$B:$B,0),1)} -> 924屏東縣崁頂鄉興農路29之9號
B79: 屏東縣私立銀髮社區長照機構 | C79: eleng1018@gmail.com | D79: {=INDEX(屏東市B!$AG:$AG,MATCH(B79,屏東市B!$B:$B,0),1)} -> 920屏東縣潮州鎮三共里34鄰北門路388號1樓
B80: 財團法人屏東縣私立椰子園老人養護之家附設鹽埔社區長照機構(鹽埔鄉失智據點) | C80: emmaemmy5@yahoo.com.tw | D80: {=INDEX(屏東市B!$AG:$AG,MATCH(B80,屏東市B!$B:$B,0),1)} -> 907屏東縣鹽埔鄉新二村彭厝路46-6號
B81: 恆基醫療財團法人附設屏東縣私立鵝鑾鼻社區長照機構 | C81: emmajr6@gmail.com | D81: {=INDEX(屏東市B!$AG:$AG,MATCH(B81,屏東市B!$B:$B,0),1)} -> 946屏東縣恆春鎮鵝鑾里1鄰燈塔路220號2樓
B82: 團法人中華民國佛教慈濟慈善事業基金會屏東縣私立慈濟鹽埔綜合長照機構 | C82: evelyn521300@gmail.com
B83: 社團法人屏東縣誠恩關懷協會私立誠恩社區長照機構 | C83: evenchen3129@gmail.com | D83: {=INDEX(屏東市B!$AG:$AG,MATCH(B83,屏東市B!$B:$B,0),1)} -> 905屏東縣里港鄉永春村民生路21號1樓
B84: 社團法人屏東縣樂活自立支援協會附設私立大家來作伴社區長照機構 | C84: everyonetogether.wantan@gmail.com | D84: {=INDEX(屏東市B!$AG:$AG,MATCH(B84,屏東市B!$B:$B,0),1)} -> 913屏東縣萬丹鄉新庄村新庄路16號1樓
B85: 財團法人屏東縣私立枋寮老人養護中心 | C85: fanglialee@yahoo.com.tw | D85: {=INDEX(屏東市B!$AG:$AG,MATCH(B85,屏東市B!$B:$B,0),1)} -> 940屏東縣枋寮鄉隆山村中正大路32號
B86: 凡恩國際有限公司附設屏東縣私立凡恩居家長照機構 | C86: fanswellcare@gmail.com | D86: {=INDEX(屏東市B!$AG:$AG,MATCH(B86,屏東市B!$B:$B,0),1)} -> 900屏東市建興南路91-3號1樓
B87: 幸運草居家護理所 | C87: fclover315@gmail.com a0967200738@gmail.com | D87: {=INDEX(屏東市B!$AG:$AG,MATCH(B87,屏東市B!$B:$B,0),1)} -> 900屏東市前進里清進路830號1樓
B88: 屏東縣私立宜家老人長期照顧中心(養護型) | C88: fcupu@hotmail.com | D88: {=INDEX(屏東市B!$AG:$AG,MATCH(B88,屏東市B!$B:$B,0),1)} -> 925屏東縣新埤鄉萬隆村萬安路10-2號
A89: 原鄉 | B89: 屏東縣私立七佳社區長照機構 | C89: fds172@gmail.com | D89: 942屏東縣春日鄉七佳村自強一路135之1號0
B90: 財團法人弘道老人福利基金會附設屏東縣私立居家式服務類長期照顧服務機構 | C90: g0069@hondao.org.tw | D90: {=INDEX(屏東市B!$AG:$AG,MATCH(B90,屏東市B!$B:$B,0),1)} -> 920屏東縣潮州鎮永春里興隆路118號
B91: 社團法人屏東縣愛心樹慈善會附設番紅花居家長照機構 | C91: gen916234@yahoo.com.tw | D91: {=INDEX(屏東市B!$AG:$AG,MATCH(B91,屏東市B!$B:$B,0),1)} -> 912屏東縣內埔鄉興南村昌宏路187號
B92: 乾坤股份有限公司附設屏東縣私立博大綜合長照機構 | C92: good7552368@gmail.com | D92: {=INDEX(屏東市B!$AG:$AG,MATCH(B92,屏東市B!$B:$B,0),1)} -> 900屏東市崇武里011鄰華盛街43號1樓
A93: 原鄉 | B93: 豐恩健康事業有限公司附設屏東縣私立豐恩居家長照機構 | C93: grace20220212@gmail.com | D93: 903屏東縣瑪家鄉佳義村泰平巷102號1樓
B94: 豐恩長照社團法人附設屏東縣私立恩典社區長照機構 | C94: grace20220212@gmail.com | D94: {=INDEX(屏東市B!$AG:$AG,MATCH(B94,屏東市B!$B:$B,0),1)} -> 903屏東縣瑪家鄉三和村1鄰玉泉1-9號1樓
B95: 豐恩居家護理所 | C95: grace20220212@gmail.com | D95: {=INDEX(屏東市B!$AG:$AG,MATCH(B95,屏東市B!$B:$B,0),1)} -> 903屏東縣瑪家鄉泰平巷102號
B96: 屏東縣私立田園老人長期照顧中心(養護型) | C96: green_tavern@icloud.com | D96: {=INDEX(屏東市B!$AG:$AG,MATCH(B96,屏東市B!$B:$B,0),1)} -> 911屏東縣竹田鄉六巷村太平路70巷20號
B97: 屏東縣私立守護居家長照機構 | C97: guard7373089@gmail.com | D97: {=INDEX(屏東市B!$AG:$AG,MATCH(B97,屏東市B!$B:$B,0),1)} -> 900屏東市中正里25鄰瑞光路三段209號1樓
B98: 屏東縣私立守愛居家長照機構 | C98: guardlove638@gmail.com | D98: {=INDEX(屏東市B!$AG:$AG,MATCH(B98,屏東市B!$B:$B,0),1)} -> 900屏東市豐年街37號1樓
B99: 莘翊居家護理所 | C99: h0987623228@gmail.com | D99: {=INDEX(屏東市B!$AG:$AG,MATCH(B99,屏東市B!$B:$B,0),1)} -> 911屏東縣竹田鄉竹田村自強路226號1樓
B100: 台灣好客來交通有限公司 | C100: h3157799@gmail.com | D100: {=INDEX(屏東市B!$AG:$AG,MATCH(B100,屏東市B!$B:$B,0),1)} -> 807高雄市三民區天津街288號 900屏東市海豐街5-14號
B101: 睿圖企業有限公司附設屏東縣私立幸福茉莉社區長照機構 | C101: happy.aging@msa.hinet.net | D101: {=INDEX(屏東市B!$AG:$AG,MATCH(B101,屏東市B!$B:$B,0),1)} -> 900屏東市崇蘭里廣東路1028號2樓
B102: 屏東縣私立向日葵居家式長期照顧服務機構 | C102: happy.aging@msa.hinet.net | D102: {=INDEX(屏東市B!$AG:$AG,MATCH(B102,屏東市B!$B:$B,0),1)} -> 900屏東市華山里華正路151號1樓
B103: 向日葵護理之家 | C103: happy.aging@msa.hinet.net | D103: {=INDEX(屏東市B!$AG:$AG,MATCH(B103,屏東市B!$B:$B,0),1)} -> 905屏東縣里港鄉玉田村八德路338號1樓
B104: 長榮護理之家 | C104: happy_an08@livemail.tw | D104: {=INDEX(屏東市B!$AG:$AG,MATCH(B104,屏東市B!$B:$B,0),1)} -> 909屏東縣麟洛鄉田中村中華路143號
B105: 睿圖企業有限公司附設屏東縣私立向日葵里港社區長照機構 | C105: happyaging20221001@gmail.com | D105: {=INDEX(屏東市B!$AG:$AG,MATCH(B105,屏東市B!$B:$B,0),1)} -> 905屏東縣里港鄉八德路338號
... B114: 社團法人屏東縣惠群照顧關懷協會附設私立惠群居家長照機構 | C114: huiqun1688@gmail.com | D114: {=INDEX(屏東市B!$AG:$AG,MATCH(B114,屏東市B!$B:$B,0),1)} -> 912屏東縣內埔鄉東寧村勝利路167號
B115: 屏東縣私立普昇老人長期照顧中心(養護型) | C115: hungyu0216@yahoo.com.tw | D115: =INDEX(屏東市B!$AG:$AG,MATCH(B115,屏東市B!$B:$B,0),1) -> 904屏東縣九如鄉洽興村平和路145號
B116: 屏東縣私立安德老人養護中心 | C116: idea7336595@yahoo.com.tw | D116: {=INDEX(屏東市B!$AG:$AG,MATCH(B116,屏東市B!$B:$B,0),1)} -> 900屏東市桂林街106號
B117: 日旺事業有限公司附設屏東縣私立日欣居家長照機構 | C117: iwang7897871@gmail.com | D117: {=INDEX(屏東市B!$AG:$AG,MATCH(B117,屏東市B!$B:$B,0),1)} -> 920屏東縣潮州鎮朝昇3巷29號1樓
B118: 屏基醫療財團法人屏東基督教醫院 | C118: j1116@ptch.org.tw | D118: {=INDEX(屏東市B!$AG:$AG,MATCH(B118,屏東市B!$B:$B,0),1)} -> 900屏東市大連路60號
B119: 睿圖企業有限公司附設屏東縣私立幸福風鈴社區長照機構 | C119: janetdophin@gmail.com | D119: {=INDEX(屏東市B!$AG:$AG,MATCH(B119,屏東市B!$B:$B,0),1)} -> 900屏東市華山里華正路93號1樓
B120: 屏東縣私立社皮老人長期照顧中心(養護型) | C120: jhen9025@gmail.com | D120: {=INDEX(屏東市B!$AG:$AG,MATCH(B120,屏東市B!$B:$B,0),1)} -> 913屏東縣萬丹鄉社中村大公路161號
B121: 社團法人屏東縣嘉屏照顧關懷協會附設私立嘉屏居家長照機構 | C121: jiaping1090214@gmail.com | D121: {=INDEX(屏東市B!$AG:$AG,MATCH(B121,屏東市B!$B:$B,0),1)} -> 912屏東縣內埔鄉豐田村新豐路16號1樓
...
